BEGIN:VCALENDAR
VERSION:2.0
PRODID:-//Santuario Grande - ECPv6.15.20//NONSGML v1.0//EN
CALSCALE:GREGORIAN
METHOD:PUBLISH
X-WR-CALNAME:Santuario Grande
X-ORIGINAL-URL:https://santuariogrande.com
X-WR-CALDESC:Events for Santuario Grande
REFRESH-INTERVAL;VALUE=DURATION:PT1H
X-Robots-Tag:noindex
X-PUBLISHED-TTL:PT1H
BEGIN:VTIMEZONE
TZID:America/Denver
BEGIN:DAYLIGHT
TZOFFSETFROM:-0700
TZOFFSETTO:-0600
TZNAME:MDT
DTSTART:20250309T090000
END:DAYLIGHT
BEGIN:STANDARD
TZOFFSETFROM:-0600
TZOFFSETTO:-0700
TZNAME:MST
DTSTART:20251102T080000
END:STANDARD
BEGIN:DAYLIGHT
TZOFFSETFROM:-0700
TZOFFSETTO:-0600
TZNAME:MDT
DTSTART:20260308T090000
END:DAYLIGHT
BEGIN:STANDARD
TZOFFSETFROM:-0600
TZOFFSETTO:-0700
TZNAME:MST
DTSTART:20261101T080000
END:STANDARD
BEGIN:DAYLIGHT
TZOFFSETFROM:-0700
TZOFFSETTO:-0600
TZNAME:MDT
DTSTART:20270314T090000
END:DAYLIGHT
BEGIN:STANDARD
TZOFFSETFROM:-0600
TZOFFSETTO:-0700
TZNAME:MST
DTSTART:20271107T080000
END:STANDARD
BEGIN:DAYLIGHT
TZOFFSETFROM:-0700
TZOFFSETTO:-0600
TZNAME:MDT
DTSTART:20280312T090000
END:DAYLIGHT
BEGIN:STANDARD
TZOFFSETFROM:-0600
TZOFFSETTO:-0700
TZNAME:MST
DTSTART:20281105T080000
END:STANDARD
END:VTIMEZONE
BEGIN:VEVENT
DTSTART;TZID=America/Denver:20260514T173000
DTEND;TZID=America/Denver:20260514T193000
DTSTAMP:20260420T072326
CREATED:20260415T002603Z
LAST-MODIFIED:20260415T143550Z
UID:10000333-1778779800-1778787000@santuariogrande.com
SUMMARY:Petroglyph National Monument — Sunset Trail Hike
DESCRIPTION:As the sun drops toward the West Mesa\, the black basalt boulders of Petroglyph National Monument catch fire with orange and amber light. This guided sunset hike leads small groups through Boca Negra Canyon\, where over 800 petroglyphs mark the volcanic escarpment. \nSantuario Grande guests: a 20-minute drive and one of the most memorable evenings you can have in Albuquerque.
URL:https://santuariogrande.com/event/petroglyph-national-monument-sunset-trail-hike-2/
LOCATION:Petroglyph National Monument\, Albuquerque\, NM
CATEGORIES:Outdoor,Things To Do
ATTACH;FMTTYPE=image/png:https://santuariogrande.com/wp-content/uploads/2026/04/73e7117d9_generated_image-4.png-4.png
END:VEVENT
BEGIN:VEVENT
DTSTART;TZID=America/Denver:20260621T053000
DTEND;TZID=America/Denver:20260621T090000
DTSTAMP:20260420T072326
CREATED:20260415T190108Z
LAST-MODIFIED:20260415T190108Z
UID:10000711-1782019800-1782032400@santuariogrande.com
SUMMARY:Summer Solstice Sunrise — Petroglyph National Monument
DESCRIPTION:The summer solstice sunrise at Petroglyph National Monument is one of the most quietly powerful experiences New Mexico offers — and almost nobody does it. \nPetroglyph National Monument preserves over 24\,000 ancient images carved into volcanic basalt boulders by ancestral Pueblo peoples over the past 700 years. Archaeological evidence suggests many petroglyphs are aligned with solstice solar events\, making this morning particularly meaningful. \nArriving before dawn\, the escarpment is eerily beautiful in the pre-light. As the sun crests the Sandia Mountains\, light strikes the petroglyphs and the volcanic rock comes alive with texture and detail that daylight flattens completely. \nBring a light jacket — mornings are cool even in June. No crowds\, no noise\, no admission fee at that hour. Just you\, 700 years of human mark-making\, and the longest day of the year.
URL:https://santuariogrande.com/event/summer-solstice-sunrise-petroglyph-national-monument-3/
LOCATION:Petroglyph National Monument\, Albuquerque\, NM
CATEGORIES:Outdoor,Things To Do
ATTACH;FMTTYPE=image/png:https://santuariogrande.com/wp-content/uploads/2026/04/summer-solstice-sunrise-petroglyph-national-monument-2.png
END:VEVENT
BEGIN:VEVENT
DTSTART;TZID=America/Denver:20260730T203000
DTEND;TZID=America/Denver:20260730T230000
DTSTAMP:20260420T072326
CREATED:20260415T190351Z
LAST-MODIFIED:20260415T190351Z
UID:10000724-1785443400-1785452400@santuariogrande.com
SUMMARY:Stargazing Night at Petroglyph National Monument
DESCRIPTION:Petroglyph National Monument sits on the western edge of Albuquerque where city lights thin out and the sky begins to open up. On a clear summer night\, the volcanic escarpment becomes one of the most atmospheric stargazing locations accessible to visitors. \nThe volcanic basalt boulders — the same rocks that carry 24\,000 petroglyphs carved over seven centuries — become dramatic silhouettes against a star-filled sky. The Milky Way arches overhead. The summer triangle hangs nearly at zenith. \nBoca Negra Canyon and Rinconada Canyon are both accessible in the late evening. Bring a red light headlamp\, water\, and a blanket or low chair. \nThe combination of ancient human mark-making underfoot and the vast cosmos overhead creates a perspective shift that is hard to articulate but easy to feel.
URL:https://santuariogrande.com/event/stargazing-night-at-petroglyph-national-monument-3/
LOCATION:Petroglyph National Monument\, Albuquerque\, NM
CATEGORIES:Outdoor,Things To Do
ATTACH;FMTTYPE=image/png:https://santuariogrande.com/wp-content/uploads/2026/04/stargazing-night-at-petroglyph-national-monument-2.png
END:VEVENT
BEGIN:VEVENT
DTSTART;TZID=America/Denver:20261221T160000
DTEND;TZID=America/Denver:20261221T190000
DTSTAMP:20260420T072326
CREATED:20260415T002409Z
LAST-MODIFIED:20260415T143602Z
UID:10000297-1797868800-1797879600@santuariogrande.com
SUMMARY:Winter Solstice Celebration at Petroglyph National Monument
DESCRIPTION:Mark the longest night of the year at Petroglyph National Monument\, where ancient volcanic rocks and 700-year-old petroglyphs provide a profound backdrop for the winter solstice. This ranger-led program explores the significance of the solstice in ancestral Pueblo astronomy and cosmology.
URL:https://santuariogrande.com/event/winter-solstice-celebration-at-petroglyph-national-monument/
LOCATION:Petroglyph National Monument\, Albuquerque\, NM
CATEGORIES:Cultural,Outdoor
ATTACH;FMTTYPE=image/png:https://santuariogrande.com/wp-content/uploads/2026/04/73e7117d9_generated_image-4.png-4.png
END:VEVENT
BEGIN:VEVENT
DTSTART;TZID=America/Denver:20270122T190000
DTEND;TZID=America/Denver:20270122T213000
DTSTAMP:20260420T072326
CREATED:20260415T190509Z
LAST-MODIFIED:20260415T190509Z
UID:10000730-1800644400-1800653400@santuariogrande.com
SUMMARY:Stargazing Night — Petroglyph National Monument (Winter)
DESCRIPTION:January nights in New Mexico are among the clearest of the year — cold\, dry air with the lowest humidity of any season. On a January night at Petroglyph National Monument\, the sky overhead is staggering. \nThe winter sky brings different constellations than summer: Orion dominates the south\, pointing toward brilliant Sirius — the brightest star in the night sky. The Pleiades cluster rides high. Planets blaze with a steadiness that unmistakably separates them from stars. \nRinconada Canyon at Petroglyph is one of the darkest accessible locations near Albuquerque. Bring a warm jacket — January nights at 5\,300 feet drop to freezing. \nA red-light headlamp\, a blanket\, and binoculars are all you need. This is the kind of night sky that realigns your sense of scale.
URL:https://santuariogrande.com/event/stargazing-night-petroglyph-national-monument-winter-3/
LOCATION:Petroglyph National Monument\, Albuquerque\, NM
CATEGORIES:Outdoor,Things To Do
ATTACH;FMTTYPE=image/png:https://santuariogrande.com/wp-content/uploads/2026/04/stargazing-night-petroglyph-national-monument-winter-2.png
END:VEVENT
END:VCALENDAR