BEGIN:VCALENDAR
VERSION:2.0
PRODID:-//Santuario Grande - ECPv6.15.20//NONSGML v1.0//EN
CALSCALE:GREGORIAN
METHOD:PUBLISH
X-WR-CALNAME:Santuario Grande
X-ORIGINAL-URL:https://santuariogrande.com
X-WR-CALDESC:Events for Santuario Grande
REFRESH-INTERVAL;VALUE=DURATION:PT1H
X-Robots-Tag:noindex
X-PUBLISHED-TTL:PT1H
BEGIN:VTIMEZONE
TZID:America/Denver
BEGIN:DAYLIGHT
TZOFFSETFROM:-0700
TZOFFSETTO:-0600
TZNAME:MDT
DTSTART:20250309T090000
END:DAYLIGHT
BEGIN:STANDARD
TZOFFSETFROM:-0600
TZOFFSETTO:-0700
TZNAME:MST
DTSTART:20251102T080000
END:STANDARD
BEGIN:DAYLIGHT
TZOFFSETFROM:-0700
TZOFFSETTO:-0600
TZNAME:MDT
DTSTART:20260308T090000
END:DAYLIGHT
BEGIN:STANDARD
TZOFFSETFROM:-0600
TZOFFSETTO:-0700
TZNAME:MST
DTSTART:20261101T080000
END:STANDARD
BEGIN:DAYLIGHT
TZOFFSETFROM:-0700
TZOFFSETTO:-0600
TZNAME:MDT
DTSTART:20270314T090000
END:DAYLIGHT
BEGIN:STANDARD
TZOFFSETFROM:-0600
TZOFFSETTO:-0700
TZNAME:MST
DTSTART:20271107T080000
END:STANDARD
END:VTIMEZONE
BEGIN:VEVENT
DTSTART;TZID=America/Denver:20260625T180000
DTEND;TZID=America/Denver:20260625T210000
DTSTAMP:20260422T030807
CREATED:20260415T190124Z
LAST-MODIFIED:20260415T190124Z
UID:10000712-1782410400-1782421200@santuariogrande.com
SUMMARY:Nob Hill Thursday Night — Murals\, Bites & Craft Beer
DESCRIPTION:Nob Hill is Albuquerque's hippest neighborhood — a stretch of Route 66 east of the University that has been the city's creative center since the 1930s. On a Thursday evening in summer it is at its absolute best. \nStart with a walk to take in the murals: Nob Hill has one of the densest concentrations of public art in the Southwest\, with massive painted walls celebrating New Mexico history\, culture\, and landscape around nearly every corner. \nFor food: Rebel Donut for a sweet start\, Nob Hill Bar & Grill for classic New Mexican\, or any of a dozen international spots along the strip. For craft beer\, Marble Brewery's taproom on Central is the anchor. \nThe whole strip is walkable\, outdoor-patio-friendly\, and buzzing on summer evenings. This is the Albuquerque that locals love.
URL:https://santuariogrande.com/event/nob-hill-thursday-night-murals-bites-craft-beer-3/
LOCATION:Nob Hill\, Albuquerque\, NM
CATEGORIES:Food & Drink,Things To Do
ATTACH;FMTTYPE=image/png:https://santuariogrande.com/wp-content/uploads/2026/04/nob-hill-thursday-night-murals-bites-craft-beer-2.png
END:VEVENT
BEGIN:VEVENT
DTSTART;TZID=America/Denver:20260717T170000
DTEND;TZID=America/Denver:20260717T210000
DTSTAMP:20260422T030807
CREATED:20260415T190246Z
LAST-MODIFIED:20260415T190246Z
UID:10000719-1784307600-1784322000@santuariogrande.com
SUMMARY:Nob Hill First Friday Art Walk
DESCRIPTION:First Friday in Nob Hill is a monthly ritual that Albuquerque's creative community has been faithfully observing for years. Galleries along and around Central Avenue open late\, artists are present\, and receptions offer free wine. \nThe walk is self-guided and completely free — pick up a gallery map at any participating space. The range of work is genuinely diverse: Southwestern landscapes\, contemporary abstraction\, photography\, sculpture\, ceramics\, and fiber arts. \nBetween galleries\, the restaurant and bar scene on Nob Hill is firing on all cylinders. Friday nights on Central are lively without being overwhelming. \nPark anywhere near Central and Girard and start walking. Most galleries run 5-8pm. Dinner after is mandatory.
URL:https://santuariogrande.com/event/nob-hill-first-friday-art-walk-3/
LOCATION:Nob Hill\, Albuquerque\, NM
CATEGORIES:Arts,Things To Do
ATTACH;FMTTYPE=image/png:https://santuariogrande.com/wp-content/uploads/2026/04/nob-hill-first-friday-art-walk-2.png
END:VEVENT
BEGIN:VEVENT
DTSTART;TZID=America/Denver:20260731T160000
DTEND;TZID=America/Denver:20260731T210000
DTSTAMP:20260422T030807
CREATED:20260415T190400Z
LAST-MODIFIED:20260415T190400Z
UID:10000725-1785513600-1785531600@santuariogrande.com
SUMMARY:NM Brewers Guild Tap Room Crawl — Nob Hill & EDo
DESCRIPTION:New Mexico has quietly become one of the great craft beer states in the American West\, and Albuquerque is where most of the action is concentrated. A Friday afternoon tap room crawl through Nob Hill and East Downtown is the most fun way to discover what the local brewing scene has built. \nThe route starts at Marble Brewery's original taproom — the grandfather of the Albuquerque craft beer scene\, opened in 2008. From there it is a short hop to Bosque Brewing's Nob Hill location\, then Tractor Brewing's Wells Park taproom. \nEach taproom has its own character: Marble is lively and social\, Bosque is polished and food-forward\, Tractor is the hometown dive you instantly feel comfortable in. \nThis is the Friday night that ends with you telling everyone back home that Albuquerque was the best surprise of the trip.
URL:https://santuariogrande.com/event/nm-brewers-guild-tap-room-crawl-nob-hill-edo-3/
LOCATION:Nob Hill\, Albuquerque\, NM
CATEGORIES:Food & Drink,Things To Do
ATTACH;FMTTYPE=image/png:https://santuariogrande.com/wp-content/uploads/2026/04/nm-brewers-guild-tap-room-crawl-nob-hill-edo-2.png
END:VEVENT
END:VCALENDAR