BEGIN:VCALENDAR
VERSION:2.0
PRODID:-//Santuario Grande - ECPv6.15.20//NONSGML v1.0//EN
CALSCALE:GREGORIAN
METHOD:PUBLISH
X-WR-CALNAME:Santuario Grande
X-ORIGINAL-URL:https://santuariogrande.com
X-WR-CALDESC:Events for Santuario Grande
REFRESH-INTERVAL;VALUE=DURATION:PT1H
X-Robots-Tag:noindex
X-PUBLISHED-TTL:PT1H
BEGIN:VTIMEZONE
TZID:America/Denver
BEGIN:DAYLIGHT
TZOFFSETFROM:-0700
TZOFFSETTO:-0600
TZNAME:MDT
DTSTART:20250309T090000
END:DAYLIGHT
BEGIN:STANDARD
TZOFFSETFROM:-0600
TZOFFSETTO:-0700
TZNAME:MST
DTSTART:20251102T080000
END:STANDARD
BEGIN:DAYLIGHT
TZOFFSETFROM:-0700
TZOFFSETTO:-0600
TZNAME:MDT
DTSTART:20260308T090000
END:DAYLIGHT
BEGIN:STANDARD
TZOFFSETFROM:-0600
TZOFFSETTO:-0700
TZNAME:MST
DTSTART:20261101T080000
END:STANDARD
BEGIN:DAYLIGHT
TZOFFSETFROM:-0700
TZOFFSETTO:-0600
TZNAME:MDT
DTSTART:20270314T090000
END:DAYLIGHT
BEGIN:STANDARD
TZOFFSETFROM:-0600
TZOFFSETTO:-0700
TZNAME:MST
DTSTART:20271107T080000
END:STANDARD
END:VTIMEZONE
BEGIN:VEVENT
DTSTART;TZID=America/Denver:20260619T120000
DTEND;TZID=America/Denver:20260619T140000
DTSTAMP:20260423T025345
CREATED:20260415T190100Z
LAST-MODIFIED:20260415T190100Z
UID:10000710-1781870400-1781877600@santuariogrande.com
SUMMARY:Green Chile Cheeseburger Trail — Frontier Restaurant
DESCRIPTION:New Mexico has an official state question: Red or Green? And nowhere does the answer matter more than when it is melted over a freshly grilled burger patty. \nThe Green Chile Cheeseburger Trail is a New Mexico Tourism Department designation recognizing the state's most iconic burger destinations. Frontier Restaurant\, a 24-hour diner across from UNM that has been feeding Albuquerque since 1971\, is the quintessential starting point: giant portions\, freshly roasted green chile\, and a dining room that is pure New Mexico. \nBeyond Frontier\, the trail winds through Duran's Central Pharmacy and Bob's Burgers on Wyoming — each a chapter in the same delicious story. \nCome hungry. Order Christmas (both red and green). No regrets.
URL:https://santuariogrande.com/event/green-chile-cheeseburger-trail-frontier-restaurant-3/
LOCATION:Frontier Restaurant\, 2400 Central Ave SE\, Albuquerque\, NM\, 87106\, US
CATEGORIES:Food & Drink,Things To Do
ATTACH;FMTTYPE=image/png:https://santuariogrande.com/wp-content/uploads/2026/04/green-chile-cheeseburger-trail-frontier-restaurant-2.png
END:VEVENT
END:VCALENDAR