BEGIN:VCALENDAR
VERSION:2.0
PRODID:-//Santuario Grande - ECPv6.15.20//NONSGML v1.0//EN
CALSCALE:GREGORIAN
METHOD:PUBLISH
X-WR-CALNAME:Santuario Grande
X-ORIGINAL-URL:https://santuariogrande.com
X-WR-CALDESC:Events for Santuario Grande
REFRESH-INTERVAL;VALUE=DURATION:PT1H
X-Robots-Tag:noindex
X-PUBLISHED-TTL:PT1H
BEGIN:VTIMEZONE
TZID:America/Denver
BEGIN:DAYLIGHT
TZOFFSETFROM:-0700
TZOFFSETTO:-0600
TZNAME:MDT
DTSTART:20250309T090000
END:DAYLIGHT
BEGIN:STANDARD
TZOFFSETFROM:-0600
TZOFFSETTO:-0700
TZNAME:MST
DTSTART:20251102T080000
END:STANDARD
BEGIN:DAYLIGHT
TZOFFSETFROM:-0700
TZOFFSETTO:-0600
TZNAME:MDT
DTSTART:20260308T090000
END:DAYLIGHT
BEGIN:STANDARD
TZOFFSETFROM:-0600
TZOFFSETTO:-0700
TZNAME:MST
DTSTART:20261101T080000
END:STANDARD
BEGIN:DAYLIGHT
TZOFFSETFROM:-0700
TZOFFSETTO:-0600
TZNAME:MDT
DTSTART:20270314T090000
END:DAYLIGHT
BEGIN:STANDARD
TZOFFSETFROM:-0600
TZOFFSETTO:-0700
TZNAME:MST
DTSTART:20271107T080000
END:STANDARD
END:VTIMEZONE
BEGIN:VEVENT
DTSTART;TZID=America/Denver:20260426T100000
DTEND;TZID=America/Denver:20260426T180000
DTSTAMP:20260420T105446
CREATED:20260415T000337Z
LAST-MODIFIED:20260415T010953Z
UID:10000224-1777197600-1777226400@santuariogrande.com
SUMMARY:Albuquerque Earth Day Festival
DESCRIPTION:Albuquerque’s annual Earth Day Festival celebrates the Rio Grande bosque and the natural beauty that defines this city. This free community event features local environmental organizations\, live music\, native plant giveaways\, and kids’ activities. \nFrom Santuario Grande\, the bosque is practically your backyard.
URL:https://santuariogrande.com/event/albuquerque-earth-day-festival/
LOCATION:Rio Grande Nature Center\, Albuquerque\, NM
CATEGORIES:Festival,Outdoor
ATTACH;FMTTYPE=image/jpeg:https://santuariogrande.com/wp-content/uploads/2024/06/Sandia-mountains.jpg
END:VEVENT
END:VCALENDAR