BEGIN:VCALENDAR
VERSION:2.0
PRODID:-//Santuario Grande - ECPv6.15.20//NONSGML v1.0//EN
CALSCALE:GREGORIAN
METHOD:PUBLISH
X-WR-CALNAME:Santuario Grande
X-ORIGINAL-URL:https://santuariogrande.com
X-WR-CALDESC:Events for Santuario Grande
REFRESH-INTERVAL;VALUE=DURATION:PT1H
X-Robots-Tag:noindex
X-PUBLISHED-TTL:PT1H
BEGIN:VTIMEZONE
TZID:America/Denver
BEGIN:DAYLIGHT
TZOFFSETFROM:-0700
TZOFFSETTO:-0600
TZNAME:MDT
DTSTART:20250309T090000
END:DAYLIGHT
BEGIN:STANDARD
TZOFFSETFROM:-0600
TZOFFSETTO:-0700
TZNAME:MST
DTSTART:20251102T080000
END:STANDARD
BEGIN:DAYLIGHT
TZOFFSETFROM:-0700
TZOFFSETTO:-0600
TZNAME:MDT
DTSTART:20260308T090000
END:DAYLIGHT
BEGIN:STANDARD
TZOFFSETFROM:-0600
TZOFFSETTO:-0700
TZNAME:MST
DTSTART:20261101T080000
END:STANDARD
BEGIN:DAYLIGHT
TZOFFSETFROM:-0700
TZOFFSETTO:-0600
TZNAME:MDT
DTSTART:20270314T090000
END:DAYLIGHT
BEGIN:STANDARD
TZOFFSETFROM:-0600
TZOFFSETTO:-0700
TZNAME:MST
DTSTART:20271107T080000
END:STANDARD
END:VTIMEZONE
BEGIN:VEVENT
DTSTART;TZID=America/Denver:20260920T070000
DTEND;TZID=America/Denver:20260920T130000
DTSTAMP:20260419T164956
CREATED:20260414T173047Z
LAST-MODIFIED:20260414T173047Z
UID:10000252-1789887600-1789909200@santuariogrande.com
SUMMARY:Duke City Marathon
DESCRIPTION:Albuquerque’s premier road race featuring full marathon\, half marathon\, 10K\, and 5K distances. Run through the scenic streets of the Duke City with mountain views and a legendary finish line party.
URL:https://santuariogrande.com/event/duke-city-marathon/
LOCATION:Civic Plaza\, 1 Civic Plaza NW\, Albuquerque\, NM\, 87102\, United States
CATEGORIES:Race,Sports
ATTACH;FMTTYPE=image/png:https://santuariogrande.com/wp-content/uploads/2026/04/177185132_generated_image-sxeQDV.png
END:VEVENT
BEGIN:VEVENT
DTSTART;TZID=America/Denver:20261004T000000
DTEND;TZID=America/Denver:20261011T235900
DTSTAMP:20260419T164956
CREATED:20260415T002331Z
LAST-MODIFIED:20260415T011144Z
UID:10000268-1791072000-1791763140@santuariogrande.com
SUMMARY:Balloon Fiesta — Gas Ballooning: America's Challenge Race Tracking
DESCRIPTION:While hundreds of hot air balloons fill the sky\, a small fleet of gas balloons competes in one of aviation’s oldest races: America’s Challenge. These sleek silver envelopes carry pilots thousands of miles across the continent — navigating wind currents with nothing but skill and instinct.
URL:https://santuariogrande.com/event/balloon-fiesta-gas-ballooning-americas-challenge-race-tracking/
LOCATION:Balloon Fiesta Park\, 5000 Balloon Fiesta Pkwy NE\, Albuquerque\, NM\, 87113\, US
CATEGORIES:Festival
ATTACH;FMTTYPE=image/png:https://santuariogrande.com/wp-content/uploads/2026/04/5cba9732e_generated_image-1.png-1.png
END:VEVENT
BEGIN:VEVENT
DTSTART;TZID=America/Denver:20261004T150000
DTEND;TZID=America/Denver:20261004T180000
DTSTAMP:20260419T164956
CREATED:20260414T173132Z
LAST-MODIFIED:20260414T173132Z
UID:10000267-1791126000-1791136800@santuariogrande.com
SUMMARY:Balloon Fiesta Day 2 — America's Challenge Gas Balloon Race Launch 🏆
DESCRIPTION:One of the most unique competitions in ballooning — pilots in gas-filled balloons launch for a long-distance race that could take them hundreds or thousands of miles across North America. The last balloon to land wins. Watch the dramatic launch from Balloon Fiesta Park as these graceful craft drift silently into the New Mexico sky.
URL:https://santuariogrande.com/event/balloon-fiesta-day-2-americas-challenge-gas-balloon-race-launch-%f0%9f%8f%86/
LOCATION:Balloon Fiesta Park\, 5000 Balloon Fiesta Pkwy NE\, Albuquerque\, NM\, 87113\, US
CATEGORIES:Festival,Outdoor
ATTACH;FMTTYPE=image/png:https://santuariogrande.com/wp-content/uploads/2026/04/7f0817a04_generated_image-JHC3B8.png
END:VEVENT
END:VCALENDAR