BEGIN:VCALENDAR
VERSION:2.0
PRODID:-//Santuario Grande - ECPv6.15.20//NONSGML v1.0//EN
CALSCALE:GREGORIAN
METHOD:PUBLISH
X-WR-CALNAME:Santuario Grande
X-ORIGINAL-URL:https://santuariogrande.com
X-WR-CALDESC:Events for Santuario Grande
REFRESH-INTERVAL;VALUE=DURATION:PT1H
X-Robots-Tag:noindex
X-PUBLISHED-TTL:PT1H
BEGIN:VTIMEZONE
TZID:America/Denver
BEGIN:DAYLIGHT
TZOFFSETFROM:-0700
TZOFFSETTO:-0600
TZNAME:MDT
DTSTART:20250309T090000
END:DAYLIGHT
BEGIN:STANDARD
TZOFFSETFROM:-0600
TZOFFSETTO:-0700
TZNAME:MST
DTSTART:20251102T080000
END:STANDARD
BEGIN:DAYLIGHT
TZOFFSETFROM:-0700
TZOFFSETTO:-0600
TZNAME:MDT
DTSTART:20260308T090000
END:DAYLIGHT
BEGIN:STANDARD
TZOFFSETFROM:-0600
TZOFFSETTO:-0700
TZNAME:MST
DTSTART:20261101T080000
END:STANDARD
BEGIN:DAYLIGHT
TZOFFSETFROM:-0700
TZOFFSETTO:-0600
TZNAME:MDT
DTSTART:20270314T090000
END:DAYLIGHT
BEGIN:STANDARD
TZOFFSETFROM:-0600
TZOFFSETTO:-0700
TZNAME:MST
DTSTART:20271107T080000
END:STANDARD
END:VTIMEZONE
BEGIN:VEVENT
DTSTART;TZID=America/Denver:20260920T070000
DTEND;TZID=America/Denver:20260920T130000
DTSTAMP:20260419T232337
CREATED:20260414T173047Z
LAST-MODIFIED:20260414T173047Z
UID:10000252-1789887600-1789909200@santuariogrande.com
SUMMARY:Duke City Marathon
DESCRIPTION:Albuquerque’s premier road race featuring full marathon\, half marathon\, 10K\, and 5K distances. Run through the scenic streets of the Duke City with mountain views and a legendary finish line party.
URL:https://santuariogrande.com/event/duke-city-marathon/
LOCATION:Civic Plaza\, 1 Civic Plaza NW\, Albuquerque\, NM\, 87102\, United States
CATEGORIES:Race,Sports
ATTACH;FMTTYPE=image/png:https://santuariogrande.com/wp-content/uploads/2026/04/177185132_generated_image-sxeQDV.png
END:VEVENT
END:VCALENDAR