BEGIN:VCALENDAR
VERSION:2.0
PRODID:-//Santuario Grande - ECPv6.15.20//NONSGML v1.0//EN
CALSCALE:GREGORIAN
METHOD:PUBLISH
X-ORIGINAL-URL:https://santuariogrande.com
X-WR-CALDESC:Events for Santuario Grande
REFRESH-INTERVAL;VALUE=DURATION:PT1H
X-Robots-Tag:noindex
X-PUBLISHED-TTL:PT1H
BEGIN:VTIMEZONE
TZID:America/Denver
BEGIN:DAYLIGHT
TZOFFSETFROM:-0700
TZOFFSETTO:-0600
TZNAME:MDT
DTSTART:20250309T090000
END:DAYLIGHT
BEGIN:STANDARD
TZOFFSETFROM:-0600
TZOFFSETTO:-0700
TZNAME:MST
DTSTART:20251102T080000
END:STANDARD
BEGIN:DAYLIGHT
TZOFFSETFROM:-0700
TZOFFSETTO:-0600
TZNAME:MDT
DTSTART:20260308T090000
END:DAYLIGHT
BEGIN:STANDARD
TZOFFSETFROM:-0600
TZOFFSETTO:-0700
TZNAME:MST
DTSTART:20261101T080000
END:STANDARD
BEGIN:DAYLIGHT
TZOFFSETFROM:-0700
TZOFFSETTO:-0600
TZNAME:MDT
DTSTART:20270314T090000
END:DAYLIGHT
BEGIN:STANDARD
TZOFFSETFROM:-0600
TZOFFSETTO:-0700
TZNAME:MST
DTSTART:20271107T080000
END:STANDARD
END:VTIMEZONE
BEGIN:VEVENT
DTSTART;TZID=America/Denver:20260801T090000
DTEND;TZID=America/Denver:20260801T170000
DTSTAMP:20260419T083441
CREATED:20260414T173030Z
LAST-MODIFIED:20260414T173030Z
UID:10000245-1785574800-1785603600@santuariogrande.com
SUMMARY:Albuquerque International Balloon Fiesta — Ticket Sale Reminder
DESCRIPTION:Tickets for the world-famous Albuquerque International Balloon Fiesta go fast! Plan your stay now for October 3–11 and book Santuario Grande early — rooms fill up months in advance for this iconic event.
URL:https://santuariogrande.com/event/albuquerque-international-balloon-fiesta-ticket-sale-reminder/
LOCATION:Balloon Fiesta Park\, 5000 Balloon Fiesta Pkwy NE\, Albuquerque\, NM\, 87113\, US
CATEGORIES:Festival
ATTACH;FMTTYPE=image/png:https://santuariogrande.com/wp-content/uploads/2026/04/9b26f0986_generated_image-IPjnYd.png
END:VEVENT
BEGIN:VEVENT
DTSTART;TZID=America/Denver:20261003T033000
DTEND;TZID=America/Denver:20261011T113000
DTSTAMP:20260419T083441
CREATED:20260415T002325Z
LAST-MODIFIED:20260416T025143Z
UID:10000264-1790998200-1791718200@santuariogrande.com
SUMMARY:Balloon Fiesta — Park & Ride Guide: Beat the Traffic
DESCRIPTION:Skip the parking nightmare. The Balloon Fiesta Park & Ride is the smartest way to get to the field — convenient pickup locations\, direct drop-off at the park gates\, and none of the post-ascension traffic crawl. \nStaying at Santuario Grande in Los Ranchos de Albuquerque? You’re already close to the field.
URL:https://santuariogrande.com/event/balloon-fiesta-park-ride-guide-beat-the-traffic/
LOCATION:Balloon Fiesta Park\, 5000 Balloon Fiesta Pkwy NE\, Albuquerque\, NM\, 87113\, US
CATEGORIES:Festival
ATTACH;FMTTYPE=image/jpeg:https://santuariogrande.com/wp-content/uploads/2024/06/ballon-fiest.jpg
END:VEVENT
END:VCALENDAR