BEGIN:VCALENDAR
VERSION:2.0
PRODID:-//Santuario Grande - ECPv6.15.20//NONSGML v1.0//EN
CALSCALE:GREGORIAN
METHOD:PUBLISH
X-WR-CALNAME:Santuario Grande
X-ORIGINAL-URL:https://santuariogrande.com
X-WR-CALDESC:Events for Santuario Grande
REFRESH-INTERVAL;VALUE=DURATION:PT1H
X-Robots-Tag:noindex
X-PUBLISHED-TTL:PT1H
BEGIN:VTIMEZONE
TZID:America/Denver
BEGIN:DAYLIGHT
TZOFFSETFROM:-0700
TZOFFSETTO:-0600
TZNAME:MDT
DTSTART:20250309T090000
END:DAYLIGHT
BEGIN:STANDARD
TZOFFSETFROM:-0600
TZOFFSETTO:-0700
TZNAME:MST
DTSTART:20251102T080000
END:STANDARD
BEGIN:DAYLIGHT
TZOFFSETFROM:-0700
TZOFFSETTO:-0600
TZNAME:MDT
DTSTART:20260308T090000
END:DAYLIGHT
BEGIN:STANDARD
TZOFFSETFROM:-0600
TZOFFSETTO:-0700
TZNAME:MST
DTSTART:20261101T080000
END:STANDARD
BEGIN:DAYLIGHT
TZOFFSETFROM:-0700
TZOFFSETTO:-0600
TZNAME:MDT
DTSTART:20270314T090000
END:DAYLIGHT
BEGIN:STANDARD
TZOFFSETFROM:-0600
TZOFFSETTO:-0700
TZNAME:MST
DTSTART:20271107T080000
END:STANDARD
BEGIN:DAYLIGHT
TZOFFSETFROM:-0700
TZOFFSETTO:-0600
TZNAME:MDT
DTSTART:20280312T090000
END:DAYLIGHT
BEGIN:STANDARD
TZOFFSETFROM:-0600
TZOFFSETTO:-0700
TZNAME:MST
DTSTART:20281105T080000
END:STANDARD
END:VTIMEZONE
BEGIN:VEVENT
DTSTART;TZID=America/Denver:20260502T100000
DTEND;TZID=America/Denver:20260503T200000
DTSTAMP:20260424T023219
CREATED:20260415T000341Z
LAST-MODIFIED:20260415T010957Z
UID:10000226-1777716000-1777838400@santuariogrande.com
SUMMARY:Rio Grande Valley Celtic Festival
DESCRIPTION:Kilts\, fiddles\, and a whole lot of spirit — the Rio Grande Valley Celtic Festival brings the traditions of Scotland\, Ireland\, Wales\, and beyond to the banks of the Rio Grande. Enjoy Highland games\, pipe and drum competitions\, Irish step dancing\, Celtic rock bands\, and a full marketplace of artisan goods.
URL:https://santuariogrande.com/event/rio-grande-valley-celtic-festival/
LOCATION:Albuquerque BioPark\, 2601 Central Ave NW\, Albuquerque\, NM\, 87104\, US
CATEGORIES:Cultural,Festival
ATTACH;FMTTYPE=image/jpeg:https://santuariogrande.com/wp-content/uploads/2024/06/Sandia-mountains.jpg
END:VEVENT
BEGIN:VEVENT
DTSTART;TZID=America/Denver:20270317T100000
DTEND;TZID=America/Denver:20270317T180000
DTSTAMP:20260424T023219
CREATED:20260415T002442Z
LAST-MODIFIED:20260415T011350Z
UID:10000309-1805277600-1805306400@santuariogrande.com
SUMMARY:St. Patrick's Day Parade & Green Chile Celebration
DESCRIPTION:Albuquerque puts its own spin on St. Patrick’s Day — and that spin involves green chile. Bagpipers march alongside Mariachi bands\, green chile tamales appear on vendor tables\, and the plaza goes gloriously\, cheerfully green. \nThe only place where you’ll hear ‘Erin Go Bragh’ and ‘¡Buen provecho!’ in the same breath.
URL:https://santuariogrande.com/event/st-patricks-day-parade-green-chile-celebration/
LOCATION:Old Town Albuquerque Plaza\, 400 San Felipe St NW\, Albuquerque\, NM\, 87104\, US
CATEGORIES:Festival,Holiday
ATTACH;FMTTYPE=image/jpeg:https://santuariogrande.com/wp-content/uploads/2024/10/old-town.jpg
END:VEVENT
END:VCALENDAR