BEGIN:VCALENDAR
VERSION:2.0
PRODID:-//Santuario Grande - ECPv6.15.20//NONSGML v1.0//EN
CALSCALE:GREGORIAN
METHOD:PUBLISH
X-WR-CALNAME:Santuario Grande
X-ORIGINAL-URL:https://santuariogrande.com
X-WR-CALDESC:Events for Santuario Grande
REFRESH-INTERVAL;VALUE=DURATION:PT1H
X-Robots-Tag:noindex
X-PUBLISHED-TTL:PT1H
BEGIN:VTIMEZONE
TZID:America/Denver
BEGIN:DAYLIGHT
TZOFFSETFROM:-0700
TZOFFSETTO:-0600
TZNAME:MDT
DTSTART:20250309T090000
END:DAYLIGHT
BEGIN:STANDARD
TZOFFSETFROM:-0600
TZOFFSETTO:-0700
TZNAME:MST
DTSTART:20251102T080000
END:STANDARD
BEGIN:DAYLIGHT
TZOFFSETFROM:-0700
TZOFFSETTO:-0600
TZNAME:MDT
DTSTART:20260308T090000
END:DAYLIGHT
BEGIN:STANDARD
TZOFFSETFROM:-0600
TZOFFSETTO:-0700
TZNAME:MST
DTSTART:20261101T080000
END:STANDARD
BEGIN:DAYLIGHT
TZOFFSETFROM:-0700
TZOFFSETTO:-0600
TZNAME:MDT
DTSTART:20270314T090000
END:DAYLIGHT
BEGIN:STANDARD
TZOFFSETFROM:-0600
TZOFFSETTO:-0700
TZNAME:MST
DTSTART:20271107T080000
END:STANDARD
END:VTIMEZONE
BEGIN:VEVENT
DTSTART;TZID=America/Denver:20261003T053000
DTEND;TZID=America/Denver:20261003T063000
DTSTAMP:20260419T065028
CREATED:20260414T173102Z
LAST-MODIFIED:20260414T173102Z
UID:10000257-1791005400-1791009000@santuariogrande.com
SUMMARY:Balloon Fiesta Day 1 — Dawn Patrol 🌅
DESCRIPTION:The most magical way to start Balloon Fiesta. While the rest of the world sleeps\, a select group of specially equipped pilots launch their balloons into the pre-dawn darkness — glowing like giant fireflies against the New Mexico night sky. Gates open at 4:30 AM. Dress warm — it’s crisp and beautiful. Worth every early morning minute.
URL:https://santuariogrande.com/event/balloon-fiesta-day-1-dawn-patrol-%f0%9f%8c%85/
LOCATION:Balloon Fiesta Park\, 5000 Balloon Fiesta Pkwy NE\, Albuquerque\, NM\, 87113\, US
CATEGORIES:Festival,Outdoor
ATTACH;FMTTYPE=image/png:https://santuariogrande.com/wp-content/uploads/2026/04/858071341_generated_image-VuM0kA.png
END:VEVENT
BEGIN:VEVENT
DTSTART;TZID=America/Denver:20261003T060000
DTEND;TZID=America/Denver:20261011T220000
DTSTAMP:20260419T065028
CREATED:20260414T173059Z
LAST-MODIFIED:20260414T173059Z
UID:10000255-1791007200-1791756000@santuariogrande.com
SUMMARY:ExxonMobil Albuquerque International Balloon Fiesta® 2026
DESCRIPTION:The world’s most photographed event and one of the greatest spectacles on Earth. Over 500 hot air balloons fill the Albuquerque sky during this iconic 9-day festival. Special Shape Rodeo\, Dawn Patrol\, Mass Ascension\, evening Balloon Glow — pure magic. Theme: ‘The Scenic Route.’ Book your stay NOW — accommodations sell out months in advance!
URL:https://santuariogrande.com/event/exxonmobil-albuquerque-international-balloon-fiesta-2026/
LOCATION:Balloon Fiesta Park\, 5000 Balloon Fiesta Pkwy NE\, Albuquerque\, NM\, 87113\, US
CATEGORIES:Festival,Outdoor
ATTACH;FMTTYPE=image/png:https://santuariogrande.com/wp-content/uploads/2026/04/5cba9732e_generated_image-1.png-1.png
END:VEVENT
BEGIN:VEVENT
DTSTART;TZID=America/Denver:20261003T063000
DTEND;TZID=America/Denver:20261003T110000
DTSTAMP:20260419T065028
CREATED:20260414T173112Z
LAST-MODIFIED:20260414T173112Z
UID:10000258-1791009000-1791025200@santuariogrande.com
SUMMARY:Balloon Fiesta Day 1 — Morning Glow & Mass Ascension (Opening Day!) 🎈
DESCRIPTION:Opening Day of the world’s largest balloon festival! The Morning Glow lights up the field as hundreds of balloons inflate and glow simultaneously\, followed immediately by the breathtaking Opening Mass Ascension — 500+ balloons lifting into the iconic New Mexico blue sky at once. The crowd energy on Opening Day is unlike anything else. Arrive by 4:30 AM to get the full experience. Book your Santuario Grande stay NOW — this is peak week.
URL:https://santuariogrande.com/event/balloon-fiesta-day-1-morning-glow-mass-ascension-opening-day-%f0%9f%8e%88/
LOCATION:Balloon Fiesta Park\, 5000 Balloon Fiesta Pkwy NE\, Albuquerque\, NM\, 87113\, US
CATEGORIES:Festival,Outdoor
ATTACH;FMTTYPE=image/png:https://santuariogrande.com/wp-content/uploads/2026/04/2bbac4535_generated_image-Q4opD7.png
END:VEVENT
END:VCALENDAR