BEGIN:VCALENDAR
VERSION:2.0
PRODID:-//Santuario Grande - ECPv6.15.20//NONSGML v1.0//EN
CALSCALE:GREGORIAN
METHOD:PUBLISH
X-WR-CALNAME:Santuario Grande
X-ORIGINAL-URL:https://santuariogrande.com
X-WR-CALDESC:Events for Santuario Grande
REFRESH-INTERVAL;VALUE=DURATION:PT1H
X-Robots-Tag:noindex
X-PUBLISHED-TTL:PT1H
BEGIN:VTIMEZONE
TZID:America/Denver
BEGIN:DAYLIGHT
TZOFFSETFROM:-0700
TZOFFSETTO:-0600
TZNAME:MDT
DTSTART:20250309T090000
END:DAYLIGHT
BEGIN:STANDARD
TZOFFSETFROM:-0600
TZOFFSETTO:-0700
TZNAME:MST
DTSTART:20251102T080000
END:STANDARD
BEGIN:DAYLIGHT
TZOFFSETFROM:-0700
TZOFFSETTO:-0600
TZNAME:MDT
DTSTART:20260308T090000
END:DAYLIGHT
BEGIN:STANDARD
TZOFFSETFROM:-0600
TZOFFSETTO:-0700
TZNAME:MST
DTSTART:20261101T080000
END:STANDARD
BEGIN:DAYLIGHT
TZOFFSETFROM:-0700
TZOFFSETTO:-0600
TZNAME:MDT
DTSTART:20270314T090000
END:DAYLIGHT
BEGIN:STANDARD
TZOFFSETFROM:-0600
TZOFFSETTO:-0700
TZNAME:MST
DTSTART:20271107T080000
END:STANDARD
END:VTIMEZONE
BEGIN:VEVENT
DTSTART;TZID=America/Denver:20260503T090000
DTEND;TZID=America/Denver:20260503T140000
DTSTAMP:20260420T110305
CREATED:20260414T172928Z
LAST-MODIFIED:20260414T172928Z
UID:10000227-1777798800-1777816800@santuariogrande.com
SUMMARY:Rail Yards Market — Season Opening
DESCRIPTION:The beloved Rail Yards Market opens for its 2026 season in the historic Albuquerque rail yards. Over 150 local vendors selling fresh produce\, handmade goods\, hot food\, and live music every Sunday through summer.
URL:https://santuariogrande.com/event/rail-yards-market-season-opening/
LOCATION:Albuquerque Rail Yards\, 777 1st St SW\, Albuquerque\, NM\, 87102\, United States
CATEGORIES:Festival,Market
ATTACH;FMTTYPE=image/png:https://santuariogrande.com/wp-content/uploads/2026/04/061eb5ff7_generated_image-rBLd7B.png
END:VEVENT
END:VCALENDAR