BEGIN:VCALENDAR
VERSION:2.0
PRODID:-//Santuario Grande - ECPv6.15.20//NONSGML v1.0//EN
CALSCALE:GREGORIAN
METHOD:PUBLISH
X-WR-CALNAME:Santuario Grande
X-ORIGINAL-URL:https://santuariogrande.com
X-WR-CALDESC:Events for Santuario Grande
REFRESH-INTERVAL;VALUE=DURATION:PT1H
X-Robots-Tag:noindex
X-PUBLISHED-TTL:PT1H
BEGIN:VTIMEZONE
TZID:America/Denver
BEGIN:DAYLIGHT
TZOFFSETFROM:-0700
TZOFFSETTO:-0600
TZNAME:MDT
DTSTART:20260308T090000
END:DAYLIGHT
BEGIN:STANDARD
TZOFFSETFROM:-0600
TZOFFSETTO:-0700
TZNAME:MST
DTSTART:20261101T080000
END:STANDARD
BEGIN:DAYLIGHT
TZOFFSETFROM:-0700
TZOFFSETTO:-0600
TZNAME:MDT
DTSTART:20270314T090000
END:DAYLIGHT
BEGIN:STANDARD
TZOFFSETFROM:-0600
TZOFFSETTO:-0700
TZNAME:MST
DTSTART:20271107T080000
END:STANDARD
BEGIN:DAYLIGHT
TZOFFSETFROM:-0700
TZOFFSETTO:-0600
TZNAME:MDT
DTSTART:20280312T090000
END:DAYLIGHT
BEGIN:STANDARD
TZOFFSETFROM:-0600
TZOFFSETTO:-0700
TZNAME:MST
DTSTART:20281105T080000
END:STANDARD
END:VTIMEZONE
BEGIN:VEVENT
DTSTART;TZID=America/Denver:20270213T100000
DTEND;TZID=America/Denver:20270214T170000
DTSTAMP:20260420T045229
CREATED:20260415T002424Z
LAST-MODIFIED:20260415T011331Z
UID:10000303-1802512800-1802624400@santuariogrande.com
SUMMARY:Southwest Chocolate & Coffee Festival
DESCRIPTION:Albuquerque’s sweetest weekend: the Southwest Chocolate & Coffee Festival packs the Convention Center with artisan chocolatiers\, specialty roasters\, pastry chefs\, and dessert makers from across the region. \nSample single-origin truffles\, cold brew blends\, chile-infused chocolate bars\, and espresso drinks that will ruin ordinary coffee forever.
URL:https://santuariogrande.com/event/southwest-chocolate-coffee-festival/
LOCATION:Albuquerque Convention Center\, 401 2nd St NW\, Albuquerque\, NM\, 87102\, US
CATEGORIES:Festival,Food & Drink
ATTACH;FMTTYPE=image/jpeg:https://santuariogrande.com/wp-content/uploads/2024/06/gourmet-foods.jpg
END:VEVENT
END:VCALENDAR