BEGIN:VCALENDAR
VERSION:2.0
PRODID:-//Santuario Grande - ECPv6.15.20//NONSGML v1.0//EN
CALSCALE:GREGORIAN
METHOD:PUBLISH
X-WR-CALNAME:Santuario Grande
X-ORIGINAL-URL:https://santuariogrande.com
X-WR-CALDESC:Events for Santuario Grande
REFRESH-INTERVAL;VALUE=DURATION:PT1H
X-Robots-Tag:noindex
X-PUBLISHED-TTL:PT1H
BEGIN:VTIMEZONE
TZID:America/Denver
BEGIN:DAYLIGHT
TZOFFSETFROM:-0700
TZOFFSETTO:-0600
TZNAME:MDT
DTSTART:20250309T090000
END:DAYLIGHT
BEGIN:STANDARD
TZOFFSETFROM:-0600
TZOFFSETTO:-0700
TZNAME:MST
DTSTART:20251102T080000
END:STANDARD
BEGIN:DAYLIGHT
TZOFFSETFROM:-0700
TZOFFSETTO:-0600
TZNAME:MDT
DTSTART:20260308T090000
END:DAYLIGHT
BEGIN:STANDARD
TZOFFSETFROM:-0600
TZOFFSETTO:-0700
TZNAME:MST
DTSTART:20261101T080000
END:STANDARD
BEGIN:DAYLIGHT
TZOFFSETFROM:-0700
TZOFFSETTO:-0600
TZNAME:MDT
DTSTART:20270314T090000
END:DAYLIGHT
BEGIN:STANDARD
TZOFFSETFROM:-0600
TZOFFSETTO:-0700
TZNAME:MST
DTSTART:20271107T080000
END:STANDARD
END:VTIMEZONE
BEGIN:VEVENT
DTSTART;TZID=America/Denver:20261003T063000
DTEND;TZID=America/Denver:20261003T110000
DTSTAMP:20260419T070046
CREATED:20260414T173112Z
LAST-MODIFIED:20260414T173112Z
UID:10000258-1791009000-1791025200@santuariogrande.com
SUMMARY:Balloon Fiesta Day 1 — Morning Glow & Mass Ascension (Opening Day!) 🎈
DESCRIPTION:Opening Day of the world’s largest balloon festival! The Morning Glow lights up the field as hundreds of balloons inflate and glow simultaneously\, followed immediately by the breathtaking Opening Mass Ascension — 500+ balloons lifting into the iconic New Mexico blue sky at once. The crowd energy on Opening Day is unlike anything else. Arrive by 4:30 AM to get the full experience. Book your Santuario Grande stay NOW — this is peak week.
URL:https://santuariogrande.com/event/balloon-fiesta-day-1-morning-glow-mass-ascension-opening-day-%f0%9f%8e%88/
LOCATION:Balloon Fiesta Park\, 5000 Balloon Fiesta Pkwy NE\, Albuquerque\, NM\, 87113\, US
CATEGORIES:Festival,Outdoor
ATTACH;FMTTYPE=image/png:https://santuariogrande.com/wp-content/uploads/2026/04/2bbac4535_generated_image-Q4opD7.png
END:VEVENT
BEGIN:VEVENT
DTSTART;TZID=America/Denver:20261004T063000
DTEND;TZID=America/Denver:20261004T110000
DTSTAMP:20260419T070046
CREATED:20260414T173131Z
LAST-MODIFIED:20260414T173131Z
UID:10000266-1791095400-1791111600@santuariogrande.com
SUMMARY:Balloon Fiesta Day 2 — Mass Ascension Sunday 🎈
DESCRIPTION:The second Mass Ascension of Balloon Fiesta — all 500+ registered balloons launch from the 78-acre field in a two-hour spectacular. Walk among the balloons as they inflate\, chat with pilots from around the world\, and watch hundreds of colorful envelopes lift skyward. One of the most photographed moments on Earth.
URL:https://santuariogrande.com/event/balloon-fiesta-day-2-mass-ascension-sunday-%f0%9f%8e%88/
LOCATION:Balloon Fiesta Park\, 5000 Balloon Fiesta Pkwy NE\, Albuquerque\, NM\, 87113\, US
CATEGORIES:Festival,Outdoor
ATTACH;FMTTYPE=image/png:https://santuariogrande.com/wp-content/uploads/2026/04/9b26f0986_generated_image-IPjnYd.png
END:VEVENT
BEGIN:VEVENT
DTSTART;TZID=America/Denver:20261010T063000
DTEND;TZID=America/Denver:20261010T110000
DTSTAMP:20260419T070046
CREATED:20260414T173228Z
LAST-MODIFIED:20260414T173228Z
UID:10000284-1791613800-1791630000@santuariogrande.com
SUMMARY:Balloon Fiesta Day 8 — Mass Ascension: Second Saturday 🎈
DESCRIPTION:The second Saturday Mass Ascension — all 500+ balloons in the sky on the penultimate day of the festival. The energy on second Saturday is electric as the festival reaches its final weekend crescendo. Walk the field\, meet pilots from 50+ countries\, and soak in the last full Mass Ascension of 2026.
URL:https://santuariogrande.com/event/balloon-fiesta-day-8-mass-ascension-second-saturday-%f0%9f%8e%88/
LOCATION:Balloon Fiesta Park\, 5000 Balloon Fiesta Pkwy NE\, Albuquerque\, NM\, 87113\, US
CATEGORIES:Festival,Outdoor
ATTACH;FMTTYPE=image/png:https://santuariogrande.com/wp-content/uploads/2026/04/9b26f0986_generated_image-IPjnYd.png
END:VEVENT
END:VCALENDAR