BEGIN:VCALENDAR
VERSION:2.0
PRODID:-//Santuario Grande - ECPv6.15.20//NONSGML v1.0//EN
CALSCALE:GREGORIAN
METHOD:PUBLISH
X-WR-CALNAME:Santuario Grande
X-ORIGINAL-URL:https://santuariogrande.com
X-WR-CALDESC:Events for Santuario Grande
REFRESH-INTERVAL;VALUE=DURATION:PT1H
X-Robots-Tag:noindex
X-PUBLISHED-TTL:PT1H
BEGIN:VTIMEZONE
TZID:America/Denver
BEGIN:DAYLIGHT
TZOFFSETFROM:-0700
TZOFFSETTO:-0600
TZNAME:MDT
DTSTART:20260308T090000
END:DAYLIGHT
BEGIN:STANDARD
TZOFFSETFROM:-0600
TZOFFSETTO:-0700
TZNAME:MST
DTSTART:20261101T080000
END:STANDARD
BEGIN:DAYLIGHT
TZOFFSETFROM:-0700
TZOFFSETTO:-0600
TZNAME:MDT
DTSTART:20270314T090000
END:DAYLIGHT
BEGIN:STANDARD
TZOFFSETFROM:-0600
TZOFFSETTO:-0700
TZNAME:MST
DTSTART:20271107T080000
END:STANDARD
BEGIN:DAYLIGHT
TZOFFSETFROM:-0700
TZOFFSETTO:-0600
TZNAME:MDT
DTSTART:20280312T090000
END:DAYLIGHT
BEGIN:STANDARD
TZOFFSETFROM:-0600
TZOFFSETTO:-0700
TZNAME:MST
DTSTART:20281105T080000
END:STANDARD
END:VTIMEZONE
BEGIN:VEVENT
DTSTART;TZID=America/Denver:20270417T100000
DTEND;TZID=America/Denver:20270417T200000
DTSTAMP:20260420T011021
CREATED:20260415T002445Z
LAST-MODIFIED:20260415T011353Z
UID:10000311-1807956000-1807992000@santuariogrande.com
SUMMARY:Albuquerque Birthday Celebration 2027
DESCRIPTION:Albuquerque celebrates another year — the 2027 Birthday Celebration returns to Old Town Plaza with live music\, traditional dance\, local food\, and civic pride that only comes from being one of America’s oldest continuously inhabited cities.
URL:https://santuariogrande.com/event/albuquerque-birthday-celebration-2027/
LOCATION:Old Town Albuquerque Plaza\, 400 San Felipe St NW\, Albuquerque\, NM\, 87104\, US
CATEGORIES:Cultural,Festival
ATTACH;FMTTYPE=image/jpeg:https://santuariogrande.com/wp-content/uploads/2024/10/old-town.jpg
END:VEVENT
BEGIN:VEVENT
DTSTART;TZID=America/Denver:20270423T100000
DTEND;TZID=America/Denver:20270424T220000
DTSTAMP:20260420T011021
CREATED:20260415T002449Z
LAST-MODIFIED:20260415T011357Z
UID:10000312-1808474400-1808604000@santuariogrande.com
SUMMARY:Gathering of Nations Powwow 2027
DESCRIPTION:The Gathering of Nations Powwow 2027 continues its legacy as one of North America’s most important Indigenous cultural gatherings. Thousands of dancers\, drummers\, and singers from hundreds of tribes fill the arena with color\, sound\, and tradition passed down for generations. \nBook your stay at Santuario Grande early — this event draws visitors from across the continent.
URL:https://santuariogrande.com/event/gathering-of-nations-powwow-2027/
LOCATION:Gathering of Nations\, 300 San Pedro Dr NE\, Albuquerque\, NM\, 87108\, US
CATEGORIES:Cultural,Festival
ATTACH;FMTTYPE=image/jpeg:https://santuariogrande.com/wp-content/uploads/2024/06/new-mexico.jpg
END:VEVENT
BEGIN:VEVENT
DTSTART;TZID=America/Denver:20270425T100000
DTEND;TZID=America/Denver:20270425T180000
DTSTAMP:20260420T011021
CREATED:20260415T002452Z
LAST-MODIFIED:20260415T011400Z
UID:10000313-1808647200-1808676000@santuariogrande.com
SUMMARY:Albuquerque Earth Day Festival 2027
DESCRIPTION:Spring returns and so does Albuquerque’s commitment to the land that makes this city extraordinary. The 2027 Earth Day Festival celebrates the Rio Grande bosque and high desert ecosystem with live music\, environmental education\, native plant giveaways\, and genuine community energy.
URL:https://santuariogrande.com/event/albuquerque-earth-day-festival-2027/
LOCATION:Rio Grande Nature Center\, Albuquerque\, NM
CATEGORIES:Festival,Outdoor
ATTACH;FMTTYPE=image/jpeg:https://santuariogrande.com/wp-content/uploads/2024/06/Sandia-mountains.jpg
END:VEVENT
END:VCALENDAR