BEGIN:VCALENDAR
VERSION:2.0
PRODID:-//Santuario Grande - ECPv6.15.20//NONSGML v1.0//EN
CALSCALE:GREGORIAN
METHOD:PUBLISH
X-ORIGINAL-URL:https://santuariogrande.com
X-WR-CALDESC:Events for Santuario Grande
REFRESH-INTERVAL;VALUE=DURATION:PT1H
X-Robots-Tag:noindex
X-PUBLISHED-TTL:PT1H
BEGIN:VTIMEZONE
TZID:America/Denver
BEGIN:DAYLIGHT
TZOFFSETFROM:-0700
TZOFFSETTO:-0600
TZNAME:MDT
DTSTART:20250309T090000
END:DAYLIGHT
BEGIN:STANDARD
TZOFFSETFROM:-0600
TZOFFSETTO:-0700
TZNAME:MST
DTSTART:20251102T080000
END:STANDARD
BEGIN:DAYLIGHT
TZOFFSETFROM:-0700
TZOFFSETTO:-0600
TZNAME:MDT
DTSTART:20260308T090000
END:DAYLIGHT
BEGIN:STANDARD
TZOFFSETFROM:-0600
TZOFFSETTO:-0700
TZNAME:MST
DTSTART:20261101T080000
END:STANDARD
BEGIN:DAYLIGHT
TZOFFSETFROM:-0700
TZOFFSETTO:-0600
TZNAME:MDT
DTSTART:20270314T090000
END:DAYLIGHT
BEGIN:STANDARD
TZOFFSETFROM:-0600
TZOFFSETTO:-0700
TZNAME:MST
DTSTART:20271107T080000
END:STANDARD
END:VTIMEZONE
BEGIN:VEVENT
DTSTART;TZID=America/Denver:20260801T080000
DTEND;TZID=America/Denver:20260803T200000
DTSTAMP:20260419T134747
CREATED:20260415T010531Z
LAST-MODIFIED:20260416T025135Z
UID:10000338-1785571200-1785787200@santuariogrande.com
SUMMARY:🎈 Book Your Santuario Grande Stay — Balloon Fiesta Week Fills Fast!
DESCRIPTION:🎈 Balloon Fiesta is coming — and Santuario Grande is the perfect base camp. \nThe ExxonMobil Albuquerque International Balloon Fiesta is the most photographed event in the world — nine days of mass ascensions\, glowing night spectacles\, and hundreds of colorful balloons painting the New Mexico sky. Santuario Grande in Los Ranchos de Albuquerque puts you close to the magic without the chaos. \nWake up before dawn. Grab your coffee. Watch balloons drift over the cottonwoods. Then head to the field. \nRooms book fast for Balloon Fiesta week. Reserve yours now at santuariogrande.com.
URL:https://santuariogrande.com/event/%f0%9f%8e%88-book-your-santuario-grande-stay-balloon-fiesta-week-fills-fast-2/
LOCATION:Santuario Grande\, 4116 Corrales Rd\, Corrales\, NM\, 87048\, US
CATEGORIES:Accommodation,Festival
ATTACH;FMTTYPE=image/jpeg:https://santuariogrande.com/wp-content/uploads/2024/06/nm-ballon-fiesta.jpg
END:VEVENT
BEGIN:VEVENT
DTSTART;TZID=America/Denver:20260801T090000
DTEND;TZID=America/Denver:20260801T170000
DTSTAMP:20260419T134747
CREATED:20260414T173030Z
LAST-MODIFIED:20260414T173030Z
UID:10000245-1785574800-1785603600@santuariogrande.com
SUMMARY:Albuquerque International Balloon Fiesta — Ticket Sale Reminder
DESCRIPTION:Tickets for the world-famous Albuquerque International Balloon Fiesta go fast! Plan your stay now for October 3–11 and book Santuario Grande early — rooms fill up months in advance for this iconic event.
URL:https://santuariogrande.com/event/albuquerque-international-balloon-fiesta-ticket-sale-reminder/
LOCATION:Balloon Fiesta Park\, 5000 Balloon Fiesta Pkwy NE\, Albuquerque\, NM\, 87113\, US
CATEGORIES:Festival
ATTACH;FMTTYPE=image/png:https://santuariogrande.com/wp-content/uploads/2026/04/9b26f0986_generated_image-IPjnYd.png
END:VEVENT
BEGIN:VEVENT
DTSTART;TZID=America/Denver:20260801T100000
DTEND;TZID=America/Denver:20260802T200000
DTSTAMP:20260419T134747
CREATED:20260415T002259Z
LAST-MODIFIED:20260415T011031Z
UID:10000244-1785578400-1785700800@santuariogrande.com
SUMMARY:Southwest Indian Polytechnic Institute Annual Powwow
DESCRIPTION:The Southwest Indian Polytechnic Institute Annual Powwow honors Indigenous culture\, tradition\, and the achievements of Native American students. Featuring inter-tribal dancing\, drumming competitions\, traditional food\, and a warm\, welcoming atmosphere open to all.
URL:https://santuariogrande.com/event/southwest-indian-polytechnic-institute-annual-powwow/
LOCATION:Albuquerque Convention Center\, 401 2nd St NW\, Albuquerque\, NM\, 87102\, US
CATEGORIES:Cultural
ATTACH;FMTTYPE=image/jpeg:https://santuariogrande.com/wp-content/uploads/2024/06/new-mexico.jpg
END:VEVENT
BEGIN:VEVENT
DTSTART;TZID=America/Denver:20260806T100000
DTEND;TZID=America/Denver:20260806T123000
DTSTAMP:20260419T134747
CREATED:20260415T115906Z
LAST-MODIFIED:20260415T125210Z
UID:10000454-1786010400-1786019400@santuariogrande.com
SUMMARY:New Mexico Flavors Food Tour — Old Town Albuquerque (Aug 6)
DESCRIPTION:Taste your way through the flavors of New Mexico on this guided walking food tour of Old Town. From green chile stew to biscochitos\, every bite tells a story of this ancient land.
URL:https://santuariogrande.com/event/new-mexico-flavors-food-tour-old-town-albuquerque-aug-6/
LOCATION:Old Town Albuquerque\, NM
ATTACH;FMTTYPE=image/png:https://santuariogrande.com/wp-content/uploads/2026/04/1e61e1065_generated_image-4.png-4.png
END:VEVENT
BEGIN:VEVENT
DTSTART;TZID=America/Denver:20260806T180000
DTEND;TZID=America/Denver:20260806T193000
DTSTAMP:20260419T134747
CREATED:20260415T115833Z
LAST-MODIFIED:20260415T142556Z
UID:10000441-1786039200-1786044600@santuariogrande.com
SUMMARY:Thursday Evening Meditation — Kadampa Center Weekly Drop-In (Aug 6)
DESCRIPTION:Wind down your Thursday with a guided meditation evening. Relax\, reflect\, and reset with the support of experienced teachers in a welcoming\, peaceful environment.
URL:https://santuariogrande.com/event/thursday-evening-meditation-kadampa-center-weekly-drop-in-aug-6/
LOCATION:Kadampa Meditation Center\, Albuquerque\, NM
ATTACH;FMTTYPE=image/png:https://santuariogrande.com/wp-content/uploads/2026/04/fcff14ed1_generated_image-3.png-3.png
END:VEVENT
BEGIN:VEVENT
DTSTART;TZID=America/Denver:20260806T193000
DTEND;TZID=America/Denver:20260806T213000
DTSTAMP:20260419T134747
CREATED:20260415T115929Z
LAST-MODIFIED:20260415T143507Z
UID:10000462-1786044600-1786051800@santuariogrande.com
SUMMARY:Petroglyph National Monument — Sunset Trail Hike (Aug 6)
DESCRIPTION:Hike the Boca Negra Canyon trails as the sun dips below the West Mesa. Over 21\,000 ancient petroglyphs line the volcanic escarpment — a humbling and unforgettable evening walk.
URL:https://santuariogrande.com/event/petroglyph-national-monument-sunset-trail-hike-aug-6/
LOCATION:Petroglyph National Monument\, Albuquerque\, NM
ATTACH;FMTTYPE=image/png:https://santuariogrande.com/wp-content/uploads/2026/04/73e7117d9_generated_image-4.png-4.png
END:VEVENT
BEGIN:VEVENT
DTSTART;TZID=America/Denver:20260807T100000
DTEND;TZID=America/Denver:20260809T210000
DTSTAMP:20260419T134747
CREATED:20260415T002303Z
LAST-MODIFIED:20260415T011034Z
UID:10000246-1786096800-1786309200@santuariogrande.com
SUMMARY:New Mexico Women's Film Festival
DESCRIPTION:The New Mexico Women’s Film Festival celebrates the voices\, visions\, and stories of women in cinema — from short films and documentaries to features and experimental work. Screenings\, panels\, and filmmaker conversations fill the weekend with thought-provoking content.
URL:https://santuariogrande.com/event/new-mexico-womens-film-festival/
LOCATION:Albuquerque Convention Center\, 401 2nd St NW\, Albuquerque\, NM\, 87102\, US
CATEGORIES:Arts,Festival
ATTACH;FMTTYPE=image/png:https://santuariogrande.com/wp-content/uploads/2026/04/565f43205_generated_image.png
END:VEVENT
BEGIN:VEVENT
DTSTART;TZID=America/Denver:20260810T063000
DTEND;TZID=America/Denver:20260810T083000
DTSTAMP:20260419T134747
CREATED:20260415T115846Z
LAST-MODIFIED:20260415T142117Z
UID:10000446-1786343400-1786350600@santuariogrande.com
SUMMARY:Bosque Trail Walk — Rio Grande Nature Center (Aug 10)
DESCRIPTION:Walk the cottonwood bosque trails along the Rio Grande at golden hour. This guided nature walk covers 2-3 miles through one of the most stunning urban nature preserves in the Southwest.
URL:https://santuariogrande.com/event/bosque-trail-walk-rio-grande-nature-center-aug-10/
LOCATION:Rio Grande Nature Center State Park\, Albuquerque\, NM
ATTACH;FMTTYPE=image/png:https://santuariogrande.com/wp-content/uploads/2026/04/8c118d33f_generated_image-3.png-3.png
END:VEVENT
BEGIN:VEVENT
DTSTART;TZID=America/Denver:20260810T070000
DTEND;TZID=America/Denver:20260810T083000
DTSTAMP:20260419T134747
CREATED:20260415T115752Z
LAST-MODIFIED:20260415T141815Z
UID:10000425-1786345200-1786350600@santuariogrande.com
SUMMARY:Morning Yoga at Los Poblanos — Wellness Yurt Sessions (Aug 10)
DESCRIPTION:Start your week with an outdoor morning yoga class at the iconic Los Poblanos lavender farm. Breathe deep in the company of lavender fields and roaming peacocks. All levels welcome.
URL:https://santuariogrande.com/event/morning-yoga-at-los-poblanos-wellness-yurt-sessions-aug-10/
LOCATION:Los Poblanos Historic Inn & Organic Farm\, Los Ranchos de Albuquerque\, NM
ATTACH;FMTTYPE=image/png:https://santuariogrande.com/wp-content/uploads/2026/04/8465a8593_generated_image-1.png-1.png
END:VEVENT
BEGIN:VEVENT
DTSTART;TZID=America/Denver:20260811T100000
DTEND;TZID=America/Denver:20260811T113000
DTSTAMP:20260419T134747
CREATED:20260415T115805Z
LAST-MODIFIED:20260415T142604Z
UID:10000430-1786442400-1786447800@santuariogrande.com
SUMMARY:Weekly Meditation Class — Tuesday Morning Drop-In (Aug 11)
DESCRIPTION:Drop in for a guided meditation session rooted in Buddhist teachings. No experience needed. A calm\, welcoming space to quiet the mind and find clarity.
URL:https://santuariogrande.com/event/weekly-meditation-class-tuesday-morning-drop-in-aug-11/
LOCATION:Kadampa Meditation Center\, Albuquerque\, NM
ATTACH;FMTTYPE=image/png:https://santuariogrande.com/wp-content/uploads/2026/04/fcff14ed1_generated_image-3.png-3.png
END:VEVENT
BEGIN:VEVENT
DTSTART;TZID=America/Denver:20260811T180000
DTEND;TZID=America/Denver:20260811T200000
DTSTAMP:20260419T134747
CREATED:20260415T115859Z
LAST-MODIFIED:20260415T135119Z
UID:10000451-1786471200-1786478400@santuariogrande.com
SUMMARY:Yoga & Beer Night at Bosque Brewing — Tuesday Series (Aug 11)
DESCRIPTION:Stretch\, flow\, and then raise a glass. This popular Tuesday evening yoga series at Bosque Brewing combines a solid 45-minute yoga session with the best craft brews in Albuquerque.
URL:https://santuariogrande.com/event/yoga-beer-night-at-bosque-brewing-tuesday-series-aug-11/
LOCATION:Bosque Brewing Co.\, Albuquerque\, NM
ATTACH;FMTTYPE=image/png:https://santuariogrande.com/wp-content/uploads/2026/04/f5d5ac876_generated_image-3.png-3.png
END:VEVENT
BEGIN:VEVENT
DTSTART;TZID=America/Denver:20260812T090000
DTEND;TZID=America/Denver:20260812T120000
DTSTAMP:20260419T134747
CREATED:20260415T115815Z
LAST-MODIFIED:20260415T143050Z
UID:10000434-1786525200-1786536000@santuariogrande.com
SUMMARY:Corrales Growers Market — Wednesday Fresh Market (Aug 12)
DESCRIPTION:Browse fresh local produce\, handmade goods\, and artisan food at this beloved Corrales staple. Perfect for a slow Wednesday morning with fresh-brewed coffee in hand.
URL:https://santuariogrande.com/event/corrales-growers-market-wednesday-fresh-market-aug-12/
LOCATION:Corrales Growers Market\, Corrales\, NM
ATTACH;FMTTYPE=image/png:https://santuariogrande.com/wp-content/uploads/2026/04/905aef27c_generated_image-3.png-3.png
END:VEVENT
BEGIN:VEVENT
DTSTART;TZID=America/Denver:20260812T170000
DTEND;TZID=America/Denver:20260812T200000
DTSTAMP:20260419T134747
CREATED:20260415T115825Z
LAST-MODIFIED:20260415T143240Z
UID:10000438-1786554000-1786564800@santuariogrande.com
SUMMARY:Wednesday Gallery Night at 516 Arts (Aug 12)
DESCRIPTION:Explore the cutting edge of contemporary art at 516 Arts. Wednesday evenings feature extended gallery hours\, artist conversations\, and rotating exhibitions that push boundaries.
URL:https://santuariogrande.com/event/wednesday-gallery-night-at-516-arts-aug-12/
LOCATION:516 Arts\, 516 Central Ave SW\, Albuquerque\, NM
ATTACH;FMTTYPE=image/png:https://santuariogrande.com/wp-content/uploads/2026/04/ecaa29941_generated_image-4.png-4.png
END:VEVENT
BEGIN:VEVENT
DTSTART;TZID=America/Denver:20260812T173000
DTEND;TZID=America/Denver:20260812T193000
DTSTAMP:20260419T134747
CREATED:20260415T115920Z
LAST-MODIFIED:20260415T125231Z
UID:10000459-1786555800-1786563000@santuariogrande.com
SUMMARY:Wednesday Yoga & Sound Bath at Casa Ayurveda (Aug 12)
DESCRIPTION:A mid-week reset for body and soul. Flow through a gentle yoga sequence then settle into a deeply healing sound bath with crystal bowls and Himalayan instruments.
URL:https://santuariogrande.com/event/wednesday-yoga-sound-bath-at-casa-ayurveda-aug-12/
LOCATION:Casa Ayurveda\, Albuquerque\, NM
ATTACH;FMTTYPE=image/png:https://santuariogrande.com/wp-content/uploads/2026/04/9daf1412f_generated_image-4.png-4.png
END:VEVENT
BEGIN:VEVENT
DTSTART;TZID=America/Denver:20260815T100000
DTEND;TZID=America/Denver:20260816T180000
DTSTAMP:20260419T134747
CREATED:20260415T002307Z
LAST-MODIFIED:20260415T011121Z
UID:10000247-1786788000-1786903200@santuariogrande.com
SUMMARY:Lowrider SuperShow Albuquerque
DESCRIPTION:Chrome. Hydraulics. Culture. The Lowrider SuperShow Albuquerque is one of the most visually stunning car events in the American Southwest — a celebration of Chicano artistry\, craftsmanship\, and community pride with deep roots in New Mexico soil. \nWatch cars hop on hydraulics\, marvel at custom paint jobs\, and feel the bass of oldies echoing through the fairgrounds.
URL:https://santuariogrande.com/event/lowrider-supershow-albuquerque/
LOCATION:Expo New Mexico\, 300 San Pedro Dr NE\, Albuquerque\, NM\, 87108\, US
CATEGORIES:Cultural,Festival
ATTACH;FMTTYPE=image/jpeg:https://santuariogrande.com/wp-content/uploads/2024/06/new-mexico.jpg
END:VEVENT
BEGIN:VEVENT
DTSTART;TZID=America/Denver:20260822T193000
DTEND;TZID=America/Denver:20260822T233000
DTSTAMP:20260419T134747
CREATED:20260416T043401Z
LAST-MODIFIED:20260416T043401Z
UID:10000751-1787427000-1787441400@santuariogrande.com
SUMMARY:RÜFÜS DU SOL — Live at Isleta Amphitheater
DESCRIPTION:Australian electronic trio RÜFÜS DU SOL brings their immersive\, emotionally charged live show to Isleta Amphitheater this August. Known for transforming outdoor venues into transcendent sensory experiences\, the band blends deep house\, indie electronic\, and atmospheric production into sets that feel more like a shared meditation than a concert. \nThe August desert setting couldn’t be more fitting. As the sun sets behind the West Mesa and the Sandia Mountains fade to purple\, the stage lights take over and the music wraps around you in a way that’s hard to describe to someone who hasn’t experienced it. RÜFÜS fans are known for their devotion\, and the crowd at this show will share the kind of collective energy that makes live music feel necessary. \nSantuario Grande offers a genuinely special complement to a RÜFÜS show. Arrive in the afternoon\, walk the garden\, ground yourself — then head to the amphitheater for an evening that moves you. Come back and sleep beneath New Mexico stars. It’s the right way to experience both.
URL:https://santuariogrande.com/event/rufus-du-sol-live-at-isleta-amphitheater/
END:VEVENT
BEGIN:VEVENT
DTSTART;TZID=America/Denver:20260828T100000
DTEND;TZID=America/Denver:20260830T170000
DTSTAMP:20260419T134747
CREATED:20260415T002311Z
LAST-MODIFIED:20260415T011125Z
UID:10000248-1787911200-1788109200@santuariogrande.com
SUMMARY:Rio Grande Arts & Crafts Festival — Summer
DESCRIPTION:The Rio Grande Arts & Crafts Festival — Summer Edition fills Expo New Mexico with over 200 artists from across the country. Fine art\, jewelry\, ceramics\, photography\, sculpture\, textiles — live music and local food make this one of the most enjoyable summer weekends in Albuquerque.
URL:https://santuariogrande.com/event/rio-grande-arts-crafts-festival-summer/
LOCATION:Expo New Mexico\, 300 San Pedro Dr NE\, Albuquerque\, NM\, 87108\, US
CATEGORIES:Arts,Festival
ATTACH;FMTTYPE=image/jpeg:https://santuariogrande.com/wp-content/uploads/2024/06/village-of-los-ranchos.jpg
END:VEVENT
BEGIN:VEVENT
DTSTART;TZID=America/Denver:20260901T080000
DTEND;TZID=America/Denver:20260903T200000
DTSTAMP:20260419T134747
CREATED:20260415T010556Z
LAST-MODIFIED:20260416T025131Z
UID:10000339-1788249600-1788465600@santuariogrande.com
SUMMARY:🎈 Book Your Santuario Grande Stay — Balloon Fiesta Week Fills Fast!
DESCRIPTION:🎈 Balloon Fiesta is coming — and Santuario Grande is the perfect base camp. \nThe ExxonMobil Albuquerque International Balloon Fiesta is the most photographed event in the world — nine days of mass ascensions\, glowing night spectacles\, and hundreds of colorful balloons painting the New Mexico sky. Santuario Grande in Los Ranchos de Albuquerque puts you close to the magic without the chaos. \nWake up before dawn. Grab your coffee. Watch balloons drift over the cottonwoods. Then head to the field. \nRooms book fast for Balloon Fiesta week. Reserve yours now at santuariogrande.com.
URL:https://santuariogrande.com/event/%f0%9f%8e%88-book-your-santuario-grande-stay-balloon-fiesta-week-fills-fast-3/
LOCATION:Santuario Grande\, 4116 Corrales Rd\, Corrales\, NM\, 87048\, US
CATEGORIES:Accommodation,Festival
ATTACH;FMTTYPE=image/jpeg:https://santuariogrande.com/wp-content/uploads/2024/06/nm-ballon-fiesta.jpg
END:VEVENT
BEGIN:VEVENT
DTSTART;TZID=America/Denver:20260903T100000
DTEND;TZID=America/Denver:20260903T123000
DTSTAMP:20260419T134747
CREATED:20260415T120110Z
LAST-MODIFIED:20260415T125336Z
UID:10000501-1788429600-1788438600@santuariogrande.com
SUMMARY:New Mexico Flavors Food Tour — Old Town Albuquerque (Sep 3)
DESCRIPTION:Taste your way through the flavors of New Mexico on this guided walking food tour of Old Town. From green chile stew to biscochitos\, every bite tells a story of this ancient land.
URL:https://santuariogrande.com/event/new-mexico-flavors-food-tour-old-town-albuquerque-sep-3/
LOCATION:Old Town Albuquerque\, NM
ATTACH;FMTTYPE=image/png:https://santuariogrande.com/wp-content/uploads/2026/04/1e61e1065_generated_image-4.png-4.png
END:VEVENT
BEGIN:VEVENT
DTSTART;TZID=America/Denver:20260903T180000
DTEND;TZID=America/Denver:20260903T193000
DTSTAMP:20260419T134747
CREATED:20260415T120034Z
LAST-MODIFIED:20260415T142349Z
UID:10000486-1788458400-1788463800@santuariogrande.com
SUMMARY:Thursday Evening Meditation — Kadampa Center Weekly Drop-In (Sep 3)
DESCRIPTION:Wind down your Thursday with a guided meditation evening. Relax\, reflect\, and reset with the support of experienced teachers in a welcoming\, peaceful environment.
URL:https://santuariogrande.com/event/thursday-evening-meditation-kadampa-center-weekly-drop-in-sep-3/
LOCATION:Kadampa Meditation Center\, Albuquerque\, NM
ATTACH;FMTTYPE=image/png:https://santuariogrande.com/wp-content/uploads/2026/04/fcff14ed1_generated_image-3.png-3.png
END:VEVENT
BEGIN:VEVENT
DTSTART;TZID=America/Denver:20260903T193000
DTEND;TZID=America/Denver:20260903T213000
DTSTAMP:20260419T134747
CREATED:20260415T120133Z
LAST-MODIFIED:20260415T143458Z
UID:10000519-1788463800-1788471000@santuariogrande.com
SUMMARY:Petroglyph National Monument — Sunset Trail Hike (Sep 3)
DESCRIPTION:Hike the Boca Negra Canyon trails as the sun dips below the West Mesa. Over 21\,000 ancient petroglyphs line the volcanic escarpment — a humbling and unforgettable evening walk.
URL:https://santuariogrande.com/event/petroglyph-national-monument-sunset-trail-hike-sep-3/
LOCATION:Petroglyph National Monument\, Albuquerque\, NM
ATTACH;FMTTYPE=image/png:https://santuariogrande.com/wp-content/uploads/2026/04/73e7117d9_generated_image-4.png-4.png
END:VEVENT
BEGIN:VEVENT
DTSTART;TZID=America/Denver:20260905T100000
DTEND;TZID=America/Denver:20260906T170000
DTSTAMP:20260419T134747
CREATED:20260415T002315Z
LAST-MODIFIED:20260415T011128Z
UID:10000249-1788602400-1788714000@santuariogrande.com
SUMMARY:New Mexico History Museum Fall Art Tour (Santa Fe Day Trip)
DESCRIPTION:Take a day trip north to Santa Fe for the New Mexico History Museum Fall Art Tour — curated galleries paired with rotating exhibitions from the state’s finest regional artists. The Palace of the Governors portal is alive with Native American artists displaying handcrafted jewelry and pottery. \nSanta Fe is just an hour from Santuario Grande.
URL:https://santuariogrande.com/event/new-mexico-history-museum-fall-art-tour-santa-fe-day-trip/
LOCATION:Santa Fe Plaza\, 63 Lincoln Ave\, Santa Fe\, NM\, 87501\, US
CATEGORIES:Arts,Day Trip
ATTACH;FMTTYPE=image/png:https://santuariogrande.com/wp-content/uploads/2026/04/b24126f88_generated_image.png
END:VEVENT
BEGIN:VEVENT
DTSTART;TZID=America/Denver:20260907T063000
DTEND;TZID=America/Denver:20260907T083000
DTSTAMP:20260419T134747
CREATED:20260415T120044Z
LAST-MODIFIED:20260415T142107Z
UID:10000490-1788762600-1788769800@santuariogrande.com
SUMMARY:Bosque Trail Walk — Rio Grande Nature Center (Sep 7)
DESCRIPTION:Walk the cottonwood bosque trails along the Rio Grande at golden hour. This guided nature walk covers 2-3 miles through one of the most stunning urban nature preserves in the Southwest.
URL:https://santuariogrande.com/event/bosque-trail-walk-rio-grande-nature-center-sep-7/
LOCATION:Rio Grande Nature Center State Park\, Albuquerque\, NM
ATTACH;FMTTYPE=image/png:https://santuariogrande.com/wp-content/uploads/2026/04/8c118d33f_generated_image-3.png-3.png
END:VEVENT
BEGIN:VEVENT
DTSTART;TZID=America/Denver:20260907T070000
DTEND;TZID=America/Denver:20260907T083000
DTSTAMP:20260419T134747
CREATED:20260415T115941Z
LAST-MODIFIED:20260415T141727Z
UID:10000467-1788764400-1788769800@santuariogrande.com
SUMMARY:Morning Yoga at Los Poblanos — Wellness Yurt Sessions (Sep 7)
DESCRIPTION:Start your week with an outdoor morning yoga class at the iconic Los Poblanos lavender farm. Breathe deep in the company of lavender fields and roaming peacocks. All levels welcome.
URL:https://santuariogrande.com/event/morning-yoga-at-los-poblanos-wellness-yurt-sessions-sep-7/
LOCATION:Los Poblanos Historic Inn & Organic Farm\, Los Ranchos de Albuquerque\, NM
ATTACH;FMTTYPE=image/png:https://santuariogrande.com/wp-content/uploads/2026/04/8465a8593_generated_image-1.png-1.png
END:VEVENT
BEGIN:VEVENT
DTSTART;TZID=America/Denver:20260908T100000
DTEND;TZID=America/Denver:20260908T113000
DTSTAMP:20260419T134747
CREATED:20260415T115954Z
LAST-MODIFIED:20260415T142506Z
UID:10000472-1788861600-1788867000@santuariogrande.com
SUMMARY:Weekly Meditation Class — Tuesday Morning Drop-In (Sep 8)
DESCRIPTION:Drop in for a guided meditation session rooted in Buddhist teachings. No experience needed. A calm\, welcoming space to quiet the mind and find clarity.
URL:https://santuariogrande.com/event/weekly-meditation-class-tuesday-morning-drop-in-sep-8/
LOCATION:Kadampa Meditation Center\, Albuquerque\, NM
ATTACH;FMTTYPE=image/png:https://santuariogrande.com/wp-content/uploads/2026/04/fcff14ed1_generated_image-3.png-3.png
END:VEVENT
BEGIN:VEVENT
DTSTART;TZID=America/Denver:20260908T180000
DTEND;TZID=America/Denver:20260908T200000
DTSTAMP:20260419T134747
CREATED:20260415T120058Z
LAST-MODIFIED:20260415T135217Z
UID:10000495-1788890400-1788897600@santuariogrande.com
SUMMARY:Yoga & Beer Night at Bosque Brewing — Tuesday Series (Sep 8)
DESCRIPTION:Stretch\, flow\, and then raise a glass. This popular Tuesday evening yoga series at Bosque Brewing combines a solid 45-minute yoga session with the best craft brews in Albuquerque.
URL:https://santuariogrande.com/event/yoga-beer-night-at-bosque-brewing-tuesday-series-sep-8/
LOCATION:Bosque Brewing Co.\, Albuquerque\, NM
ATTACH;FMTTYPE=image/png:https://santuariogrande.com/wp-content/uploads/2026/04/f5d5ac876_generated_image-3.png-3.png
END:VEVENT
BEGIN:VEVENT
DTSTART;TZID=America/Denver:20260909T090000
DTEND;TZID=America/Denver:20260909T120000
DTSTAMP:20260419T134747
CREATED:20260415T120011Z
LAST-MODIFIED:20260415T143039Z
UID:10000477-1788944400-1788955200@santuariogrande.com
SUMMARY:Corrales Growers Market — Wednesday Fresh Market (Sep 9)
DESCRIPTION:Browse fresh local produce\, handmade goods\, and artisan food at this beloved Corrales staple. Perfect for a slow Wednesday morning with fresh-brewed coffee in hand.
URL:https://santuariogrande.com/event/corrales-growers-market-wednesday-fresh-market-sep-9/
LOCATION:Corrales Growers Market\, Corrales\, NM
ATTACH;FMTTYPE=image/png:https://santuariogrande.com/wp-content/uploads/2026/04/905aef27c_generated_image-3.png-3.png
END:VEVENT
BEGIN:VEVENT
DTSTART;TZID=America/Denver:20260909T170000
DTEND;TZID=America/Denver:20260909T200000
DTSTAMP:20260419T134747
CREATED:20260415T120024Z
LAST-MODIFIED:20260415T143231Z
UID:10000482-1788973200-1788984000@santuariogrande.com
SUMMARY:Wednesday Gallery Night at 516 Arts (Sep 9)
DESCRIPTION:Explore the cutting edge of contemporary art at 516 Arts. Wednesday evenings feature extended gallery hours\, artist conversations\, and rotating exhibitions that push boundaries.
URL:https://santuariogrande.com/event/wednesday-gallery-night-at-516-arts-sep-9/
LOCATION:516 Arts\, 516 Central Ave SW\, Albuquerque\, NM
ATTACH;FMTTYPE=image/png:https://santuariogrande.com/wp-content/uploads/2026/04/ecaa29941_generated_image-4.png-4.png
END:VEVENT
BEGIN:VEVENT
DTSTART;TZID=America/Denver:20260909T173000
DTEND;TZID=America/Denver:20260909T193000
DTSTAMP:20260419T134747
CREATED:20260415T120123Z
LAST-MODIFIED:20260415T125401Z
UID:10000511-1788975000-1788982200@santuariogrande.com
SUMMARY:Wednesday Yoga & Sound Bath at Casa Ayurveda (Sep 9)
DESCRIPTION:A mid-week reset for body and soul. Flow through a gentle yoga sequence then settle into a deeply healing sound bath with crystal bowls and Himalayan instruments.
URL:https://santuariogrande.com/event/wednesday-yoga-sound-bath-at-casa-ayurveda-sep-9/
LOCATION:Casa Ayurveda\, Albuquerque\, NM
ATTACH;FMTTYPE=image/png:https://santuariogrande.com/wp-content/uploads/2026/04/9daf1412f_generated_image-4.png-4.png
END:VEVENT
BEGIN:VEVENT
DTSTART;TZID=America/Denver:20260910T100000
DTEND;TZID=America/Denver:20260920T220000
DTSTAMP:20260419T134747
CREATED:20260415T002318Z
LAST-MODIFIED:20260415T011132Z
UID:10000250-1789034400-1789941600@santuariogrande.com
SUMMARY:New Mexico State Fair
DESCRIPTION:The New Mexico State Fair is a 17-day celebration of everything the Land of Enchantment does best. Rodeos\, concerts\, livestock shows\, carnival rides\, demolition derbies\, and more green chile than you’ve ever seen in one place. \nThe Indian Village — showcasing Native American art\, dance\, and food — is worth the price of admission alone.
URL:https://santuariogrande.com/event/new-mexico-state-fair/
LOCATION:Expo New Mexico\, 300 San Pedro Dr NE\, Albuquerque\, NM\, 87108\, US
CATEGORIES:Fair,Festival
ATTACH;FMTTYPE=image/jpeg:https://santuariogrande.com/wp-content/uploads/2024/06/new-mexico.jpg
END:VEVENT
END:VCALENDAR