BEGIN:VCALENDAR
VERSION:2.0
PRODID:-//Santuario Grande - ECPv6.15.20//NONSGML v1.0//EN
CALSCALE:GREGORIAN
METHOD:PUBLISH
X-WR-CALNAME:Santuario Grande
X-ORIGINAL-URL:https://santuariogrande.com
X-WR-CALDESC:Events for Santuario Grande
REFRESH-INTERVAL;VALUE=DURATION:PT1H
X-Robots-Tag:noindex
X-PUBLISHED-TTL:PT1H
BEGIN:VTIMEZONE
TZID:America/Denver
BEGIN:DAYLIGHT
TZOFFSETFROM:-0700
TZOFFSETTO:-0600
TZNAME:MDT
DTSTART:20250309T090000
END:DAYLIGHT
BEGIN:STANDARD
TZOFFSETFROM:-0600
TZOFFSETTO:-0700
TZNAME:MST
DTSTART:20251102T080000
END:STANDARD
BEGIN:DAYLIGHT
TZOFFSETFROM:-0700
TZOFFSETTO:-0600
TZNAME:MDT
DTSTART:20260308T090000
END:DAYLIGHT
BEGIN:STANDARD
TZOFFSETFROM:-0600
TZOFFSETTO:-0700
TZNAME:MST
DTSTART:20261101T080000
END:STANDARD
BEGIN:DAYLIGHT
TZOFFSETFROM:-0700
TZOFFSETTO:-0600
TZNAME:MDT
DTSTART:20270314T090000
END:DAYLIGHT
BEGIN:STANDARD
TZOFFSETFROM:-0600
TZOFFSETTO:-0700
TZNAME:MST
DTSTART:20271107T080000
END:STANDARD
END:VTIMEZONE
BEGIN:VEVENT
DTSTART;TZID=America/Denver:20261031T160000
DTEND;TZID=America/Denver:20261102T220000
DTSTAMP:20260419T183446
CREATED:20260416T043408Z
LAST-MODIFIED:20260416T043408Z
UID:10000754-1793462400-1793656800@santuariogrande.com
SUMMARY:Día de los Muertos — Old Town Albuquerque
DESCRIPTION:Old Town Albuquerque transforms into one of the Southwest’s most moving cultural experiences each year as Día de los Muertos arrives. The ancient Hispano and Indigenous tradition of honoring the departed fills the historic plaza and surrounding streets with color\, candlelight\, and a spirit of joyful remembrance that is unlike anything else in the region. \nCommunity ofrendas line the walkways — altars built with marigold flowers\, photographs\, candles\, and objects meaningful to those being remembered. Participants come in traditional calavera face paint and clothing\, and the atmosphere combines reverence with genuine celebration. Artisan vendors\, traditional foods\, live music\, and processions carry the celebration across multiple evenings. \nSantuario Grande’s location makes it a natural home base for guests attending the Old Town celebration. The property’s own atmosphere — quiet\, intentional\, rooted in New Mexico tradition — aligns naturally with the spirit of the holiday. Spend the evening in Old Town\, then return to the cottonwood quiet of Los Ranchos.
URL:https://santuariogrande.com/event/dia-de-los-muertos-old-town-albuquerque/
END:VEVENT
BEGIN:VEVENT
DTSTART;TZID=America/Denver:20261101T120000
DTEND;TZID=America/Denver:20261101T160000
DTSTAMP:20260419T183446
CREATED:20260415T002341Z
LAST-MODIFIED:20260415T011155Z
UID:10000288-1793534400-1793548800@santuariogrande.com
SUMMARY:Día de los Muertos Marigold Parade
DESCRIPTION:One of Albuquerque’s most visually stunning traditions: the Día de los Muertos Marigold Parade. Thousands dressed in elaborate face paint and marigold-draped costumes process through Old Town in a joyful communal celebration of life\, memory\, and loved ones who came before. \nAltars line the parade route. Marigold petals blanket the pavement. Both deeply solemn and genuinely joyful.
URL:https://santuariogrande.com/event/dia-de-los-muertos-marigold-parade/
LOCATION:Old Town Albuquerque Plaza\, 400 San Felipe St NW\, Albuquerque\, NM\, 87104\, US
CATEGORIES:Cultural,Festival
ATTACH;FMTTYPE=image/png:https://santuariogrande.com/wp-content/uploads/2026/04/c9d100b91_generated_image.png.png
END:VEVENT
BEGIN:VEVENT
DTSTART;TZID=America/Denver:20261102T063000
DTEND;TZID=America/Denver:20261102T083000
DTSTAMP:20260419T183446
CREATED:20260415T120245Z
LAST-MODIFIED:20260415T142058Z
UID:10000572-1793601000-1793608200@santuariogrande.com
SUMMARY:Bosque Trail Walk — Rio Grande Nature Center (Nov 2)
DESCRIPTION:Walk the cottonwood bosque trails along the Rio Grande at golden hour. This guided nature walk covers 2-3 miles through one of the most stunning urban nature preserves in the Southwest.
URL:https://santuariogrande.com/event/bosque-trail-walk-rio-grande-nature-center-nov-2/
LOCATION:Rio Grande Nature Center State Park\, Albuquerque\, NM
ATTACH;FMTTYPE=image/png:https://santuariogrande.com/wp-content/uploads/2026/04/8c118d33f_generated_image-3.png-3.png
END:VEVENT
BEGIN:VEVENT
DTSTART;TZID=America/Denver:20261102T070000
DTEND;TZID=America/Denver:20261102T083000
DTSTAMP:20260419T183446
CREATED:20260415T120147Z
LAST-MODIFIED:20260415T141547Z
UID:10000529-1793602800-1793608200@santuariogrande.com
SUMMARY:Morning Yoga at Los Poblanos — Wellness Yurt Sessions (Nov 2)
DESCRIPTION:Start your week with an outdoor morning yoga class at the iconic Los Poblanos lavender farm. Breathe deep in the company of lavender fields and roaming peacocks. All levels welcome.
URL:https://santuariogrande.com/event/morning-yoga-at-los-poblanos-wellness-yurt-sessions-nov-2/
LOCATION:Los Poblanos Historic Inn & Organic Farm\, Los Ranchos de Albuquerque\, NM
ATTACH;FMTTYPE=image/png:https://santuariogrande.com/wp-content/uploads/2026/04/8465a8593_generated_image-1.png-1.png
END:VEVENT
BEGIN:VEVENT
DTSTART;TZID=America/Denver:20261103T100000
DTEND;TZID=America/Denver:20261103T113000
DTSTAMP:20260419T183446
CREATED:20260415T120201Z
LAST-MODIFIED:20260415T142339Z
UID:10000539-1793700000-1793705400@santuariogrande.com
SUMMARY:Weekly Meditation Class — Tuesday Morning Drop-In (Nov 3)
DESCRIPTION:Drop in for a guided meditation session rooted in Buddhist teachings. No experience needed. A calm\, welcoming space to quiet the mind and find clarity.
URL:https://santuariogrande.com/event/weekly-meditation-class-tuesday-morning-drop-in-nov-3/
LOCATION:Kadampa Meditation Center\, Albuquerque\, NM
ATTACH;FMTTYPE=image/png:https://santuariogrande.com/wp-content/uploads/2026/04/fcff14ed1_generated_image-3.png-3.png
END:VEVENT
BEGIN:VEVENT
DTSTART;TZID=America/Denver:20261103T180000
DTEND;TZID=America/Denver:20261103T200000
DTSTAMP:20260419T183446
CREATED:20260415T120259Z
LAST-MODIFIED:20260415T135314Z
UID:10000582-1793728800-1793736000@santuariogrande.com
SUMMARY:Yoga & Beer Night at Bosque Brewing — Tuesday Series (Nov 3)
DESCRIPTION:Stretch\, flow\, and then raise a glass. This popular Tuesday evening yoga series at Bosque Brewing combines a solid 45-minute yoga session with the best craft brews in Albuquerque.
URL:https://santuariogrande.com/event/yoga-beer-night-at-bosque-brewing-tuesday-series-nov-3/
LOCATION:Bosque Brewing Co.\, Albuquerque\, NM
ATTACH;FMTTYPE=image/png:https://santuariogrande.com/wp-content/uploads/2026/04/f5d5ac876_generated_image-3.png-3.png
END:VEVENT
BEGIN:VEVENT
DTSTART;TZID=America/Denver:20261104T090000
DTEND;TZID=America/Denver:20261104T120000
DTSTAMP:20260419T183446
CREATED:20260415T120212Z
LAST-MODIFIED:20260415T143028Z
UID:10000547-1793782800-1793793600@santuariogrande.com
SUMMARY:Corrales Growers Market — Wednesday Fresh Market (Nov 4)
DESCRIPTION:Browse fresh local produce\, handmade goods\, and artisan food at this beloved Corrales staple. Perfect for a slow Wednesday morning with fresh-brewed coffee in hand.
URL:https://santuariogrande.com/event/corrales-growers-market-wednesday-fresh-market-nov-4/
LOCATION:Corrales Growers Market\, Corrales\, NM
ATTACH;FMTTYPE=image/png:https://santuariogrande.com/wp-content/uploads/2026/04/905aef27c_generated_image-3.png-3.png
END:VEVENT
BEGIN:VEVENT
DTSTART;TZID=America/Denver:20261104T170000
DTEND;TZID=America/Denver:20261104T200000
DTSTAMP:20260419T183446
CREATED:20260415T120224Z
LAST-MODIFIED:20260415T143206Z
UID:10000556-1793811600-1793822400@santuariogrande.com
SUMMARY:Wednesday Gallery Night at 516 Arts (Nov 4)
DESCRIPTION:Explore the cutting edge of contemporary art at 516 Arts. Wednesday evenings feature extended gallery hours\, artist conversations\, and rotating exhibitions that push boundaries.
URL:https://santuariogrande.com/event/wednesday-gallery-night-at-516-arts-nov-4/
LOCATION:516 Arts\, 516 Central Ave SW\, Albuquerque\, NM
ATTACH;FMTTYPE=image/png:https://santuariogrande.com/wp-content/uploads/2026/04/ecaa29941_generated_image-4.png-4.png
END:VEVENT
BEGIN:VEVENT
DTSTART;TZID=America/Denver:20261104T173000
DTEND;TZID=America/Denver:20261104T193000
DTSTAMP:20260419T183446
CREATED:20260415T120321Z
LAST-MODIFIED:20260415T141847Z
UID:10000594-1793813400-1793820600@santuariogrande.com
SUMMARY:Wednesday Yoga & Sound Bath at Casa Ayurveda (Nov 4)
DESCRIPTION:A mid-week reset for body and soul. Flow through a gentle yoga sequence then settle into a deeply healing sound bath with crystal bowls and Himalayan instruments.
URL:https://santuariogrande.com/event/wednesday-yoga-sound-bath-at-casa-ayurveda-nov-4/
LOCATION:Casa Ayurveda\, Albuquerque\, NM
ATTACH;FMTTYPE=image/png:https://santuariogrande.com/wp-content/uploads/2026/04/9daf1412f_generated_image-4.png-4.png
END:VEVENT
BEGIN:VEVENT
DTSTART;TZID=America/Denver:20261105T100000
DTEND;TZID=America/Denver:20261105T123000
DTSTAMP:20260419T183446
CREATED:20260415T120310Z
LAST-MODIFIED:20260415T125525Z
UID:10000590-1793872800-1793881800@santuariogrande.com
SUMMARY:New Mexico Flavors Food Tour — Old Town Albuquerque (Nov 5)
DESCRIPTION:Taste your way through the flavors of New Mexico on this guided walking food tour of Old Town. From green chile stew to biscochitos\, every bite tells a story of this ancient land.
URL:https://santuariogrande.com/event/new-mexico-flavors-food-tour-old-town-albuquerque-nov-5/
LOCATION:Old Town Albuquerque\, NM
ATTACH;FMTTYPE=image/png:https://santuariogrande.com/wp-content/uploads/2026/04/1e61e1065_generated_image-4.png-4.png
END:VEVENT
BEGIN:VEVENT
DTSTART;TZID=America/Denver:20261105T180000
DTEND;TZID=America/Denver:20261105T193000
DTSTAMP:20260419T183446
CREATED:20260415T120234Z
LAST-MODIFIED:20260415T142330Z
UID:10000564-1793901600-1793907000@santuariogrande.com
SUMMARY:Thursday Evening Meditation — Kadampa Center Weekly Drop-In (Nov 5)
DESCRIPTION:Wind down your Thursday with a guided meditation evening. Relax\, reflect\, and reset with the support of experienced teachers in a welcoming\, peaceful environment.
URL:https://santuariogrande.com/event/thursday-evening-meditation-kadampa-center-weekly-drop-in-nov-5/
LOCATION:Kadampa Meditation Center\, Albuquerque\, NM
ATTACH;FMTTYPE=image/png:https://santuariogrande.com/wp-content/uploads/2026/04/fcff14ed1_generated_image-3.png-3.png
END:VEVENT
BEGIN:VEVENT
DTSTART;TZID=America/Denver:20261105T193000
DTEND;TZID=America/Denver:20261105T213000
DTSTAMP:20260419T183446
CREATED:20260415T120333Z
LAST-MODIFIED:20260415T143450Z
UID:10000598-1793907000-1793914200@santuariogrande.com
SUMMARY:Petroglyph National Monument — Sunset Trail Hike (Nov 5)
DESCRIPTION:Hike the Boca Negra Canyon trails as the sun dips below the West Mesa. Over 21\,000 ancient petroglyphs line the volcanic escarpment — a humbling and unforgettable evening walk.
URL:https://santuariogrande.com/event/petroglyph-national-monument-sunset-trail-hike-nov-5/
LOCATION:Petroglyph National Monument\, Albuquerque\, NM
ATTACH;FMTTYPE=image/png:https://santuariogrande.com/wp-content/uploads/2026/04/73e7117d9_generated_image-4.png-4.png
END:VEVENT
BEGIN:VEVENT
DTSTART;TZID=America/Denver:20261107T090000
DTEND;TZID=America/Denver:20261108T160000
DTSTAMP:20260419T183446
CREATED:20260415T002344Z
LAST-MODIFIED:20260415T011159Z
UID:10000290-1794042000-1794153600@santuariogrande.com
SUMMARY:Kirtland Air Force Base Airshow
DESCRIPTION:The Kirtland Air Force Base Airshow is one of New Mexico’s most spectacular free public events — a day of precision flying\, military demonstrations\, vintage aircraft displays\, and heart-stopping aerial acrobatics. \nWalk among fighter jets and helicopters up close. A truly awe-inspiring day out.
URL:https://santuariogrande.com/event/kirtland-air-force-base-airshow/
LOCATION:Kirtland Air Force Base\, Albuquerque\, NM
CATEGORIES:Festival,Outdoor
ATTACH;FMTTYPE=image/jpeg:https://santuariogrande.com/wp-content/uploads/2024/06/new-mexico-sky.jpg
END:VEVENT
BEGIN:VEVENT
DTSTART;TZID=America/Denver:20261114T100000
DTEND;TZID=America/Denver:20261115T170000
DTSTAMP:20260419T183446
CREATED:20260415T002348Z
LAST-MODIFIED:20260415T011203Z
UID:10000291-1794650400-1794762000@santuariogrande.com
SUMMARY:Southwest Arts Festival
DESCRIPTION:The Southwest Arts Festival is one of the region’s finest juried art shows — a curated gathering of painters\, sculptors\, jewelers\, photographers\, and mixed-media artists from across the American Southwest. \nFind work you’ll treasure for decades. Meet the artists. Understand the story behind the piece.
URL:https://santuariogrande.com/event/southwest-arts-festival/
LOCATION:Expo New Mexico\, 300 San Pedro Dr NE\, Albuquerque\, NM\, 87108\, US
CATEGORIES:Arts,Festival
ATTACH;FMTTYPE=image/jpeg:https://santuariogrande.com/wp-content/uploads/2024/06/village-of-los-ranchos.jpg
END:VEVENT
BEGIN:VEVENT
DTSTART;TZID=America/Denver:20261126T080000
DTEND;TZID=America/Denver:20261126T120000
DTSTAMP:20260419T183446
CREATED:20260415T002351Z
LAST-MODIFIED:20260415T011206Z
UID:10000292-1795680000-1795694400@santuariogrande.com
SUMMARY:Albuquerque Turkey Trot
DESCRIPTION:Burn the calories before you eat them. The Albuquerque Turkey Trot is the city’s beloved Thanksgiving morning tradition — a 5K and 10K run near Old Town\, followed by all the pie you can justify. Costumes encouraged. Competitive runners welcome.
URL:https://santuariogrande.com/event/albuquerque-turkey-trot/
LOCATION:Old Town Albuquerque Plaza\, 400 San Felipe St NW\, Albuquerque\, NM\, 87104\, US
CATEGORIES:Holiday,Sports
ATTACH;FMTTYPE=image/jpeg:https://santuariogrande.com/wp-content/uploads/2024/06/new-mexico.jpg
END:VEVENT
BEGIN:VEVENT
DTSTART;TZID=America/Denver:20261128T170000
DTEND;TZID=America/Denver:20261128T210000
DTSTAMP:20260419T183446
CREATED:20260415T002355Z
LAST-MODIFIED:20260415T011210Z
UID:10000293-1795885200-1795899600@santuariogrande.com
SUMMARY:Holiday Lighting of the Valley — Old Town
DESCRIPTION:The holidays arrive in Old Town with the Holiday Lighting of the Valley — a magical evening when thousands of farolitos are lit along the acequia banks and historic plaza\, casting the neighborhood in warm\, flickering golden light. \nStroll lit pathways\, listen to carolers\, sip hot cider\, and feel the genuine warmth of a centuries-old community tradition.
URL:https://santuariogrande.com/event/holiday-lighting-of-the-valley-old-town/
LOCATION:Old Town Albuquerque Plaza\, 400 San Felipe St NW\, Albuquerque\, NM\, 87104\, US
CATEGORIES:Festival,Holiday
ATTACH;FMTTYPE=image/jpeg:https://santuariogrande.com/wp-content/uploads/2024/10/Albuquerque-night.jpg
END:VEVENT
BEGIN:VEVENT
DTSTART;TZID=America/Denver:20261130T063000
DTEND;TZID=America/Denver:20261130T083000
DTSTAMP:20260419T183446
CREATED:20260415T120256Z
LAST-MODIFIED:20260415T142042Z
UID:10000580-1796020200-1796027400@santuariogrande.com
SUMMARY:Bosque Trail Walk — Rio Grande Nature Center (Nov 30)
DESCRIPTION:Walk the cottonwood bosque trails along the Rio Grande at golden hour. This guided nature walk covers 2-3 miles through one of the most stunning urban nature preserves in the Southwest.
URL:https://santuariogrande.com/event/bosque-trail-walk-rio-grande-nature-center-nov-30/
LOCATION:Rio Grande Nature Center State Park\, Albuquerque\, NM
ATTACH;FMTTYPE=image/png:https://santuariogrande.com/wp-content/uploads/2026/04/8c118d33f_generated_image-3.png-3.png
END:VEVENT
BEGIN:VEVENT
DTSTART;TZID=America/Denver:20261130T070000
DTEND;TZID=America/Denver:20261130T083000
DTSTAMP:20260419T183446
CREATED:20260415T120158Z
LAST-MODIFIED:20260415T141511Z
UID:10000537-1796022000-1796027400@santuariogrande.com
SUMMARY:Morning Yoga at Los Poblanos — Wellness Yurt Sessions (Nov 30)
DESCRIPTION:Start your week with an outdoor morning yoga class at the iconic Los Poblanos lavender farm. Breathe deep in the company of lavender fields and roaming peacocks. All levels welcome.
URL:https://santuariogrande.com/event/morning-yoga-at-los-poblanos-wellness-yurt-sessions-nov-30/
LOCATION:Los Poblanos Historic Inn & Organic Farm\, Los Ranchos de Albuquerque\, NM
ATTACH;FMTTYPE=image/png:https://santuariogrande.com/wp-content/uploads/2026/04/8465a8593_generated_image-1.png-1.png
END:VEVENT
BEGIN:VEVENT
DTSTART;TZID=America/Denver:20261201T100000
DTEND;TZID=America/Denver:20261201T113000
DTSTAMP:20260419T183446
CREATED:20260415T120357Z
LAST-MODIFIED:20260415T142249Z
UID:10000607-1796119200-1796124600@santuariogrande.com
SUMMARY:Weekly Meditation Class — Tuesday Morning Drop-In (Dec 1)
DESCRIPTION:Drop in for a guided meditation session rooted in Buddhist teachings. No experience needed. A calm\, welcoming space to quiet the mind and find clarity.
URL:https://santuariogrande.com/event/weekly-meditation-class-tuesday-morning-drop-in-dec-1/
LOCATION:Kadampa Meditation Center\, Albuquerque\, NM
ATTACH;FMTTYPE=image/png:https://santuariogrande.com/wp-content/uploads/2026/04/fcff14ed1_generated_image-3.png-3.png
END:VEVENT
BEGIN:VEVENT
DTSTART;TZID=America/Denver:20261201T180000
DTEND;TZID=America/Denver:20261201T200000
DTSTAMP:20260419T183446
CREATED:20260415T120530Z
LAST-MODIFIED:20260415T141147Z
UID:10000640-1796148000-1796155200@santuariogrande.com
SUMMARY:Yoga & Beer Night at Bosque Brewing — Tuesday Series (Dec 1)
DESCRIPTION:Stretch\, flow\, and then raise a glass. This popular Tuesday evening yoga series at Bosque Brewing combines a solid 45-minute yoga session with the best craft brews in Albuquerque.
URL:https://santuariogrande.com/event/yoga-beer-night-at-bosque-brewing-tuesday-series-dec-1/
LOCATION:Bosque Brewing Co.\, Albuquerque\, NM
ATTACH;FMTTYPE=image/png:https://santuariogrande.com/wp-content/uploads/2026/04/f5d5ac876_generated_image-3.png-3.png
END:VEVENT
BEGIN:VEVENT
DTSTART;TZID=America/Denver:20261202T090000
DTEND;TZID=America/Denver:20261202T120000
DTSTAMP:20260419T183446
CREATED:20260415T120414Z
LAST-MODIFIED:20260415T142957Z
UID:10000612-1796202000-1796212800@santuariogrande.com
SUMMARY:Corrales Growers Market — Wednesday Fresh Market (Dec 2)
DESCRIPTION:Browse fresh local produce\, handmade goods\, and artisan food at this beloved Corrales staple. Perfect for a slow Wednesday morning with fresh-brewed coffee in hand.
URL:https://santuariogrande.com/event/corrales-growers-market-wednesday-fresh-market-dec-2/
LOCATION:Corrales Growers Market\, Corrales\, NM
ATTACH;FMTTYPE=image/png:https://santuariogrande.com/wp-content/uploads/2026/04/905aef27c_generated_image-3.png-3.png
END:VEVENT
BEGIN:VEVENT
DTSTART;TZID=America/Denver:20261202T170000
DTEND;TZID=America/Denver:20261202T200000
DTSTAMP:20260419T183446
CREATED:20260415T120432Z
LAST-MODIFIED:20260415T141448Z
UID:10000617-1796230800-1796241600@santuariogrande.com
SUMMARY:Wednesday Gallery Night at 516 Arts (Dec 2)
DESCRIPTION:Explore the cutting edge of contemporary art at 516 Arts. Wednesday evenings feature extended gallery hours\, artist conversations\, and rotating exhibitions that push boundaries.
URL:https://santuariogrande.com/event/wednesday-gallery-night-at-516-arts-dec-2/
LOCATION:516 Arts\, 516 Central Ave SW\, Albuquerque\, NM
ATTACH;FMTTYPE=image/png:https://santuariogrande.com/wp-content/uploads/2026/04/ecaa29941_generated_image-4.png-4.png
END:VEVENT
BEGIN:VEVENT
DTSTART;TZID=America/Denver:20261202T173000
DTEND;TZID=America/Denver:20261202T193000
DTSTAMP:20260419T183446
CREATED:20260415T120559Z
LAST-MODIFIED:20260415T140937Z
UID:10000660-1796232600-1796239800@santuariogrande.com
SUMMARY:Wednesday Yoga & Sound Bath at Casa Ayurveda (Dec 2)
DESCRIPTION:A mid-week reset for body and soul. Flow through a gentle yoga sequence then settle into a deeply healing sound bath with crystal bowls and Himalayan instruments.
URL:https://santuariogrande.com/event/wednesday-yoga-sound-bath-at-casa-ayurveda-dec-2/
LOCATION:Casa Ayurveda\, Albuquerque\, NM
ATTACH;FMTTYPE=image/png:https://santuariogrande.com/wp-content/uploads/2026/04/9daf1412f_generated_image-4.png-4.png
END:VEVENT
BEGIN:VEVENT
DTSTART;TZID=America/Denver:20261203T100000
DTEND;TZID=America/Denver:20261203T123000
DTSTAMP:20260419T183446
CREATED:20260415T120544Z
LAST-MODIFIED:20260415T141135Z
UID:10000650-1796292000-1796301000@santuariogrande.com
SUMMARY:New Mexico Flavors Food Tour — Old Town Albuquerque (Dec 3)
DESCRIPTION:Taste your way through the flavors of New Mexico on this guided walking food tour of Old Town. From green chile stew to biscochitos\, every bite tells a story of this ancient land.
URL:https://santuariogrande.com/event/new-mexico-flavors-food-tour-old-town-albuquerque-dec-3/
LOCATION:Old Town Albuquerque\, NM
ATTACH;FMTTYPE=image/png:https://santuariogrande.com/wp-content/uploads/2026/04/1e61e1065_generated_image-4.png-4.png
END:VEVENT
BEGIN:VEVENT
DTSTART;TZID=America/Denver:20261203T180000
DTEND;TZID=America/Denver:20261203T193000
DTSTAMP:20260419T183446
CREATED:20260415T120450Z
LAST-MODIFIED:20260415T142201Z
UID:10000622-1796320800-1796326200@santuariogrande.com
SUMMARY:Thursday Evening Meditation — Kadampa Center Weekly Drop-In (Dec 3)
DESCRIPTION:Wind down your Thursday with a guided meditation evening. Relax\, reflect\, and reset with the support of experienced teachers in a welcoming\, peaceful environment.
URL:https://santuariogrande.com/event/thursday-evening-meditation-kadampa-center-weekly-drop-in-dec-3/
LOCATION:Kadampa Meditation Center\, Albuquerque\, NM
ATTACH;FMTTYPE=image/png:https://santuariogrande.com/wp-content/uploads/2026/04/fcff14ed1_generated_image-3.png-3.png
END:VEVENT
BEGIN:VEVENT
DTSTART;TZID=America/Denver:20261203T193000
DTEND;TZID=America/Denver:20261203T213000
DTSTAMP:20260419T183446
CREATED:20260415T120613Z
LAST-MODIFIED:20260415T143437Z
UID:10000671-1796326200-1796333400@santuariogrande.com
SUMMARY:Petroglyph National Monument — Sunset Trail Hike (Dec 3)
DESCRIPTION:Hike the Boca Negra Canyon trails as the sun dips below the West Mesa. Over 21\,000 ancient petroglyphs line the volcanic escarpment — a humbling and unforgettable evening walk.
URL:https://santuariogrande.com/event/petroglyph-national-monument-sunset-trail-hike-dec-3/
LOCATION:Petroglyph National Monument\, Albuquerque\, NM
ATTACH;FMTTYPE=image/png:https://santuariogrande.com/wp-content/uploads/2026/04/73e7117d9_generated_image-4.png-4.png
END:VEVENT
BEGIN:VEVENT
DTSTART;TZID=America/Denver:20261204T180000
DTEND;TZID=America/Denver:20261204T220000
DTSTAMP:20260419T183446
CREATED:20260415T120343Z
LAST-MODIFIED:20260415T143620Z
UID:10000602-1796407200-1796421600@santuariogrande.com
SUMMARY:ABQ Artwalk — First Friday Downtown Art Crawl (Dec)
DESCRIPTION:The first Friday of every month\, downtown Albuquerque transforms into a walkable art experience. Galleries open late\, artists mingle with the public\, and the streets buzz with music and creativity.
URL:https://santuariogrande.com/event/abq-artwalk-first-friday-downtown-art-crawl-dec/
LOCATION:Downtown Albuquerque Arts District\, Central Ave & 5th St NW\, Albuquerque
ATTACH;FMTTYPE=image/png:https://santuariogrande.com/wp-content/uploads/2026/04/a02a464da_generated_image-4.png-4.png
END:VEVENT
BEGIN:VEVENT
DTSTART;TZID=America/Denver:20261205T160000
DTEND;TZID=America/Denver:20261205T200000
DTSTAMP:20260419T183446
CREATED:20260415T002358Z
LAST-MODIFIED:20260415T011217Z
UID:10000295-1796486400-1796500800@santuariogrande.com
SUMMARY:Albuquerque Christmas Parade & Festival
DESCRIPTION:Albuquerque’s annual Christmas Parade & Festival fills downtown with floats\, marching bands\, and the kind of small-city holiday charm that’s increasingly rare. Kids line the curbs\, the streets light up — pure New Mexico warmth.
URL:https://santuariogrande.com/event/albuquerque-christmas-parade-festival/
LOCATION:Downtown Albuquerque\, Albuquerque\, NM
CATEGORIES:Festival,Holiday
ATTACH;FMTTYPE=image/jpeg:https://santuariogrande.com/wp-content/uploads/2024/10/Albuquerque-night.jpg
END:VEVENT
BEGIN:VEVENT
DTSTART;TZID=America/Denver:20261205T170000
DTEND;TZID=America/Denver:20261224T210000
DTSTAMP:20260419T183446
CREATED:20260415T002402Z
LAST-MODIFIED:20260415T011214Z
UID:10000294-1796490000-1798146000@santuariogrande.com
SUMMARY:Albuquerque Luminaria Tour
DESCRIPTION:There is no more iconic New Mexico holiday experience than the Albuquerque Luminaria Tour. On Christmas Eve\, thousands of farolitos line the rooftops and pathways of Old Town\, transforming the historic neighborhood into a cathedral of soft light. \nWalk slowly. Breathe the cold air. Listen for Las Posadas. This is New Mexico’s soul\, made visible once a year.
URL:https://santuariogrande.com/event/albuquerque-luminaria-tour/
LOCATION:Old Town Albuquerque Plaza\, 400 San Felipe St NW\, Albuquerque\, NM\, 87104\, US
CATEGORIES:Cultural,Holiday
ATTACH;FMTTYPE=image/jpeg:https://santuariogrande.com/wp-content/uploads/2024/10/Albuquerque-night.jpg
END:VEVENT
BEGIN:VEVENT
DTSTART;TZID=America/Denver:20261219T170000
DTEND;TZID=America/Denver:20261219T210000
DTSTAMP:20260419T183446
CREATED:20260415T002406Z
LAST-MODIFIED:20260415T011221Z
UID:10000296-1797699600-1797714000@santuariogrande.com
SUMMARY:Old Town Holiday Luminaria Night
DESCRIPTION:A week after Christmas\, Old Town glows again for Old Town Holiday Luminaria Night — farolito-lit pathways\, live music\, and warm community gathering. \nTake a slow evening walk through the lit plaza\, browse galleries open late\, and let the candlelight slow everything down to what matters.
URL:https://santuariogrande.com/event/old-town-holiday-luminaria-night/
LOCATION:Old Town Albuquerque Plaza\, 400 San Felipe St NW\, Albuquerque\, NM\, 87104\, US
CATEGORIES:Cultural,Holiday
ATTACH;FMTTYPE=image/jpeg:https://santuariogrande.com/wp-content/uploads/2024/10/Albuquerque-night.jpg
END:VEVENT
END:VCALENDAR