BEGIN:VCALENDAR
VERSION:2.0
PRODID:-//Santuario Grande - ECPv6.15.20//NONSGML v1.0//EN
CALSCALE:GREGORIAN
METHOD:PUBLISH
X-WR-CALNAME:Santuario Grande
X-ORIGINAL-URL:https://santuariogrande.com
X-WR-CALDESC:Events for Santuario Grande
REFRESH-INTERVAL;VALUE=DURATION:PT1H
X-Robots-Tag:noindex
X-PUBLISHED-TTL:PT1H
BEGIN:VTIMEZONE
TZID:America/Denver
BEGIN:DAYLIGHT
TZOFFSETFROM:-0700
TZOFFSETTO:-0600
TZNAME:MDT
DTSTART:20250309T090000
END:DAYLIGHT
BEGIN:STANDARD
TZOFFSETFROM:-0600
TZOFFSETTO:-0700
TZNAME:MST
DTSTART:20251102T080000
END:STANDARD
BEGIN:DAYLIGHT
TZOFFSETFROM:-0700
TZOFFSETTO:-0600
TZNAME:MDT
DTSTART:20260308T090000
END:DAYLIGHT
BEGIN:STANDARD
TZOFFSETFROM:-0600
TZOFFSETTO:-0700
TZNAME:MST
DTSTART:20261101T080000
END:STANDARD
BEGIN:DAYLIGHT
TZOFFSETFROM:-0700
TZOFFSETTO:-0600
TZNAME:MDT
DTSTART:20270314T090000
END:DAYLIGHT
BEGIN:STANDARD
TZOFFSETFROM:-0600
TZOFFSETTO:-0700
TZNAME:MST
DTSTART:20271107T080000
END:STANDARD
END:VTIMEZONE
BEGIN:VEVENT
DTSTART;TZID=America/Denver:20260419T100000
DTEND;TZID=America/Denver:20260425T180000
DTSTAMP:20260424T111819
CREATED:20260416T043345Z
LAST-MODIFIED:20260416T043345Z
UID:10000744-1776592800-1777140000@santuariogrande.com
SUMMARY:American Indian Week — Indian Pueblo Cultural Center
DESCRIPTION:Each April\, the Indian Pueblo Cultural Center in Albuquerque comes alive with the sounds\, colors\, and spirit of New Mexico’s 19 Pueblos during American Indian Week. This annual celebration is one of the most meaningful cultural events in the region — a genuine expression of living tradition\, not a performance for tourists. \nThroughout the week\, tribal dancers perform traditional dances in the center’s outdoor plaza\, artists demonstrate pottery\, weaving\, silversmithing\, and beadwork\, and storytellers share histories that span centuries. The marketplace fills with authentic handmade work from Native artists across New Mexico and the broader Southwest. \nSantuario Grande sits just minutes from the Indian Pueblo Cultural Center\, making it an ideal home base for guests who want to attend events throughout the week. The property offers the quiet\, unhurried pace that makes returning from a full day of cultural immersion feel like a true exhale.
URL:https://santuariogrande.com/event/american-indian-week-indian-pueblo-cultural-center/
END:VEVENT
BEGIN:VEVENT
DTSTART;TZID=America/Denver:20260424T090000
DTEND;TZID=America/Denver:20260424T120000
DTSTAMP:20260424T111819
CREATED:20260415T185824Z
LAST-MODIFIED:20260415T185824Z
UID:10000698-1777021200-1777032000@santuariogrande.com
SUMMARY:Corrales Spring Village Walk — Acequia & Orchards in Bloom
DESCRIPTION:Spring arrives dramatically in Corrales — and there is no better way to experience it than a slow morning walk along the ancient acequia trails while apple and apricot orchards explode into white and pink blossoms. \nCorrales is one of New Mexico's last surviving agricultural villages\, and in April the whole place feels alive. The acequia flows with fresh snowmelt from the Jemez Mountains\, cottonwood trees unfurl their first bright green leaves\, and horses graze in pastures framed by the West Mesa's volcanic escarpment. \nThis is a self-guided morning — pack a coffee and just walk. The main loop along Corrales Road winds past adobe galleries\, local farms\, and roadside flower stands. Stop at any of the small farm stands for fresh eggs\, honey\, and early-season vegetables. \nSantuario Grande is just minutes away — the perfect home base for a leisurely spring morning in one of New Mexico's most beloved villages.
URL:https://santuariogrande.com/event/corrales-spring-village-walk-acequia-orchards-in-bloom-3/
LOCATION:Corrales\, Corrales Rd\, Corrales\, NM\, 87048\, US
CATEGORIES:Outdoor,Things To Do
ATTACH;FMTTYPE=image/png:https://santuariogrande.com/wp-content/uploads/2026/04/corrales-spring-village-walk-acequia-orchards-in-bloom-2.png
END:VEVENT
BEGIN:VEVENT
DTSTART;TZID=America/Denver:20260424T100000
DTEND;TZID=America/Denver:20260425T220000
DTSTAMP:20260424T111819
CREATED:20260415T000330Z
LAST-MODIFIED:20260415T143902Z
UID:10000222-1777024800-1777154400@santuariogrande.com
SUMMARY:Gathering of Nations Pow Wow — The Last Dance
DESCRIPTION:The Gathering of Nations Pow Wow is the largest Native American pow wow in the world. Over 3\,000 dancers and singers from 700+ tribes across North America gather in Albuquerque for four days of drumming\, regalia\, competition\, and cultural celebration. \nThe Miss Indian World pageant\, the Indian Traders Market\, and the Grand Entry are breathtaking. \nDon’t miss it. Book your stay at Santuario Grande and be part of history.
URL:https://santuariogrande.com/event/gathering-of-nations-pow-wow-the-last-dance/
LOCATION:Gathering of Nations\, 300 San Pedro Dr NE\, Albuquerque\, NM\, 87108\, US
CATEGORIES:Cultural,Festival
ATTACH;FMTTYPE=image/png:https://santuariogrande.com/wp-content/uploads/2026/04/8a527bdb3_generated_image-gyfdk3.png
END:VEVENT
END:VCALENDAR