BEGIN:VCALENDAR
VERSION:2.0
PRODID:-//Santuario Grande - ECPv6.15.20//NONSGML v1.0//EN
CALSCALE:GREGORIAN
METHOD:PUBLISH
X-WR-CALNAME:Santuario Grande
X-ORIGINAL-URL:https://santuariogrande.com
X-WR-CALDESC:Events for Santuario Grande
REFRESH-INTERVAL;VALUE=DURATION:PT1H
X-Robots-Tag:noindex
X-PUBLISHED-TTL:PT1H
BEGIN:VTIMEZONE
TZID:America/Denver
BEGIN:DAYLIGHT
TZOFFSETFROM:-0700
TZOFFSETTO:-0600
TZNAME:MDT
DTSTART:20250309T090000
END:DAYLIGHT
BEGIN:STANDARD
TZOFFSETFROM:-0600
TZOFFSETTO:-0700
TZNAME:MST
DTSTART:20251102T080000
END:STANDARD
BEGIN:DAYLIGHT
TZOFFSETFROM:-0700
TZOFFSETTO:-0600
TZNAME:MDT
DTSTART:20260308T090000
END:DAYLIGHT
BEGIN:STANDARD
TZOFFSETFROM:-0600
TZOFFSETTO:-0700
TZNAME:MST
DTSTART:20261101T080000
END:STANDARD
BEGIN:DAYLIGHT
TZOFFSETFROM:-0700
TZOFFSETTO:-0600
TZNAME:MDT
DTSTART:20270314T090000
END:DAYLIGHT
BEGIN:STANDARD
TZOFFSETFROM:-0600
TZOFFSETTO:-0700
TZNAME:MST
DTSTART:20271107T080000
END:STANDARD
END:VTIMEZONE
BEGIN:VEVENT
DTSTART;TZID=America/Denver:20260419T100000
DTEND;TZID=America/Denver:20260425T180000
DTSTAMP:20260420T025455
CREATED:20260416T043345Z
LAST-MODIFIED:20260416T043345Z
UID:10000744-1776592800-1777140000@santuariogrande.com
SUMMARY:American Indian Week — Indian Pueblo Cultural Center
DESCRIPTION:Each April\, the Indian Pueblo Cultural Center in Albuquerque comes alive with the sounds\, colors\, and spirit of New Mexico’s 19 Pueblos during American Indian Week. This annual celebration is one of the most meaningful cultural events in the region — a genuine expression of living tradition\, not a performance for tourists. \nThroughout the week\, tribal dancers perform traditional dances in the center’s outdoor plaza\, artists demonstrate pottery\, weaving\, silversmithing\, and beadwork\, and storytellers share histories that span centuries. The marketplace fills with authentic handmade work from Native artists across New Mexico and the broader Southwest. \nSantuario Grande sits just minutes from the Indian Pueblo Cultural Center\, making it an ideal home base for guests who want to attend events throughout the week. The property offers the quiet\, unhurried pace that makes returning from a full day of cultural immersion feel like a true exhale.
URL:https://santuariogrande.com/event/american-indian-week-indian-pueblo-cultural-center/
END:VEVENT
END:VCALENDAR